BEGIN:VCALENDAR
VERSION:2.0
PRODID:-//ChamberMaster//Event Calendar 2.0//EN
METHOD:PUBLISH
X-PUBLISHED-TTL:P3D
REFRESH-INTERVAL:P3D
CALSCALE:GREGORIAN
BEGIN:VEVENT
DTSTART:20160413T163000Z
DTEND:20160413T180000Z
X-MICROSOFT-CDO-ALLDAYEVENT:FALSE
SUMMARY:Franchise Showcase
DESCRIPTION:Learn about the top franchises coming to DFW in 2016!!!  For one day only\, successful Franchisors who are interested in expanding in the Dallas/Fort Worth area are coming together to mee with you!  There will be a variety of industries represented including retail\, business to business\, and business to consumer.
X-ALT-DESC;FMTTYPE=text/html:Learn about the top franchises coming to DFW in 2016!!! &nbsp\;For one day only\, successful Franchisors who are interested in expanding in the Dallas/Fort Worth area are coming together to mee with you! &nbsp\;There will be a variety of industries represented including retail\, business to business\, and business to consumer.
LOCATION:Tarrant County College Trinity River Campus 300 Trinity Circle\, Action Room A (Trinity Level 4) Ft.Worth TX Lunch will be served
UID:e.1262.2821
SEQUENCE:3
DTSTAMP:20260422T091211Z
URL:https://business.fwmbcc.org/events/details/franchise-showcase-04-13-2016-2821
END:VEVENT

END:VCALENDAR
