BEGIN:VCALENDAR
VERSION:2.0
PRODID:-//ChamberMaster//Event Calendar 2.0//EN
METHOD:PUBLISH
X-PUBLISHED-TTL:P3D
REFRESH-INTERVAL:P3D
CALSCALE:GREGORIAN
BEGIN:VEVENT
DTSTART:20151219T160000Z
DTEND:20151220T000000Z
X-MICROSOFT-CDO-ALLDAYEVENT:FALSE
SUMMARY:Fort Worth Kwanzaa Fest
DESCRIPTION:Celebration of African culture will feature African Drumming\, food\, storytelling\, music\, poetry\, guest speakers and the symbolic candle lighting ritual and the Ujamaa Marketplace.
X-ALT-DESC;FMTTYPE=text/html:Celebration of African culture will feature African Drumming\, food\, storytelling\, music\, poetry\, guest speakers and the symbolic candle lighting ritual and the Ujamaa Marketplace.
LOCATION:Austin Event Center at 1111 E. Berry\, Fort Worth TX
UID:e.1262.2315
SEQUENCE:3
DTSTAMP:20260422T121955Z
URL:https://business.fwmbcc.org/events/details/fort-worth-kwanzaa-fest-12-19-2015-2315
END:VEVENT

END:VCALENDAR
