BEGIN:VCALENDAR
VERSION:2.0
PRODID:-//ChamberMaster//Event Calendar 2.0//EN
METHOD:PUBLISH
X-PUBLISHED-TTL:P3D
REFRESH-INTERVAL:P3D
CALSCALE:GREGORIAN
BEGIN:VEVENT
DTSTART:20151113T160000Z
DTEND:20151116T040000Z
X-MICROSOFT-CDO-ALLDAYEVENT:FALSE
SUMMARY:Fort Worth Greek Festival
DESCRIPTION:Live Band and dancing\, Indoor Comfort\, Agora Greek Market
X-ALT-DESC;FMTTYPE=text/html:Live Band and dancing\, Indoor Comfort\, Agora Greek Market
LOCATION:St. Demetrios Greek Orthodox Church\, NW 21st St.\, at Jacksboro Hwy 199\, Ft. Worth Tx
UID:e.1262.2281
SEQUENCE:3
DTSTAMP:20260422T105442Z
URL:https://business.fwmbcc.org/events/details/fort-worth-greek-festival-11-13-2015-2281
END:VEVENT

END:VCALENDAR
