BEGIN:VCALENDAR
VERSION:2.0
PRODID:-//ChamberMaster//Event Calendar 2.0//EN
METHOD:PUBLISH
X-PUBLISHED-TTL:P3D
REFRESH-INTERVAL:P3D
CALSCALE:GREGORIAN
BEGIN:VEVENT
DTSTART:20160118T153000Z
DTEND:20160118T180000Z
X-MICROSOFT-CDO-ALLDAYEVENT:FALSE
SUMMARY:Forest Hill Martin Luther King Day Annual Parade
DESCRIPTION:Forest Hill Martin Luther King Day Annual Parade. Celebrating Unity\, Harmony and Diversity. March\, Ride or Walk
X-ALT-DESC;FMTTYPE=text/html:Forest Hill Martin Luther King Day Annual Parade. Celebrating Unity\, Harmony and Diversity. March\, Ride or Walk
LOCATION:Forest Hill Civic & Convention Center
UID:e.1262.2313
SEQUENCE:3
DTSTAMP:20260422T135458Z
URL:https://business.fwmbcc.org/events/details/forest-hill-martin-luther-king-day-annual-parade-01-18-2016-2313
END:VEVENT

END:VCALENDAR
