BEGIN:VCALENDAR
VERSION:2.0
PRODID:-//ChamberMaster//Event Calendar 2.0//EN
METHOD:PUBLISH
X-PUBLISHED-TTL:P3D
REFRESH-INTERVAL:P3D
CALSCALE:GREGORIAN
BEGIN:VEVENT
DTSTART:20180524T233000Z
DTEND:20180525T010000Z
X-MICROSOFT-CDO-ALLDAYEVENT:FALSE
SUMMARY:Financial Fitness: How to Retire Smart
DESCRIPTION:Part two of the Financial Fitness series will cover retirement account options. Ken Hampton will discuss what retirement accounts are\, how to best choose them and how to make the best use of your retirement account(s).
X-ALT-DESC;FMTTYPE=text/html:Part two of the Financial Fitness series will cover retirement account options. Ken Hampton will discuss what retirement accounts are\, how to best choose them and how to make the best use of your&nbsp\;retirement account(s).&nbsp\;
LOCATION:Guinn Complex Hill Company Conference Room 1150 South Fwy Fort Worth\, TX 76104
UID:e.1262.3097
SEQUENCE:3
DTSTAMP:20260422T073821Z
URL:https://business.fwmbcc.org/events/details/financial-fitness-how-to-retire-smart-3097
END:VEVENT

END:VCALENDAR
