BEGIN:VCALENDAR
VERSION:2.0
PRODID:-//ChamberMaster//Event Calendar 2.0//EN
METHOD:PUBLISH
X-PUBLISHED-TTL:P3D
REFRESH-INTERVAL:P3D
CALSCALE:GREGORIAN
BEGIN:VEVENT
DTSTART:20181025T230000Z
DTEND:20181026T003000Z
X-MICROSOFT-CDO-ALLDAYEVENT:FALSE
SUMMARY:Financial Fitness: Breaking the Paycheck to Paycheck Cycle
DESCRIPTION:The third installment of the four part Financial Fitness series will speak to breaking the cycle of living paycheck to paycheck. The facilitator will cover all of the following topics: \n\n\n\n1. Letting Your Money Work For You \n\n2. The Habits of Millionaires \n\n3. The History of Black Wall Street \n\n4. Wealth Tools\n\n5. Breaking the Paycheck to Paycheck Cycle
X-ALT-DESC;FMTTYPE=text/html:<span style="color: rgb(51\, 51\, 51)\; font-family: Roboto\, sans-serif\; font-size: 13px\; background-color: rgb(255\, 255\, 255)\;">The third installment of the four part Financial Fitness series will speak to breaking the cycle of living paycheck to paycheck. The facilitator will cover all of the following topics:&nbsp\;</span><br />\n<br />\n1. Letting Your Money Work For You&nbsp\;<br />\n2. The Habits of Millionaires&nbsp\;<br />\n3. The History of Black Wall Street&nbsp\;<br />\n4. Wealth Tools<br />\n5. Breaking the Paycheck to Paycheck Cycle&nbsp\;
LOCATION:Business Assistance Center Large Conference Room 1150 South Fwy Fort Worth\, TX 76104
UID:e.1262.4134
SEQUENCE:3
DTSTAMP:20260422T135515Z
URL:https://business.fwmbcc.org/events/details/financial-fitness-breaking-the-paycheck-to-paycheck-cycle-4134
END:VEVENT

END:VCALENDAR
