BEGIN:VCALENDAR
VERSION:2.0
PRODID:-//ChamberMaster//Event Calendar 2.0//EN
METHOD:PUBLISH
X-PUBLISHED-TTL:P3D
REFRESH-INTERVAL:P3D
CALSCALE:GREGORIAN
BEGIN:VEVENT
DTSTART:20150919T150000Z
DTEND:20150920T030000Z
X-MICROSOFT-CDO-ALLDAYEVENT:FALSE
SUMMARY:FESTIVAL: Ecofest Arlington
DESCRIPTION:Get FREE trees to plant at home. Starting at 10am\, 2\,000 trees will be available for free\, first come\, first served basis. Live music\, kids activities and visit vendors lined up on the streets surrounding Founders Plaza.
X-ALT-DESC;FMTTYPE=text/html:Get FREE trees to plant at home. Starting at 10am\, 2\,000 trees will be available for free\, first come\, first served basis. Live music\, kids activities and visit vendors lined up on the streets surrounding Founders Plaza.
LOCATION:Founders Plaza\, 100 W. Abrams St.\, Arlington\, TX
UID:e.1262.2260
SEQUENCE:3
DTSTAMP:20260422T073525Z
URL:https://business.fwmbcc.org/events/details/festival-ecofest-arlington-09-19-2015-2260
END:VEVENT

END:VCALENDAR
