BEGIN:VCALENDAR
VERSION:2.0
PRODID:-//ChamberMaster//Event Calendar 2.0//EN
METHOD:PUBLISH
X-PUBLISHED-TTL:P3D
REFRESH-INTERVAL:P3D
CALSCALE:GREGORIAN
BEGIN:VEVENT
DTSTART:20160421T220000Z
DTEND:20160422T000000Z
X-MICROSOFT-CDO-ALLDAYEVENT:FALSE
SUMMARY:Federal Certification and System Award Management (SAM) Enhancement Workshop
DESCRIPTION:The Trinity River Vision Authority is hosting a Federal Certification Workshop and System Award Management (SAM) Workshop.  \n\n\n\nThe Trinity River Vision Authority project has many contracts that will be let by the United States Army Corps of Engineers (USACE).  If you want to have an opportunity to participate in these contracts\, or any other contracts that the USACE may be letting\, then you MUST be registered in the SAM\, formerly CCR.  \n\n\n\nIMPORTANT! Provide your DUNS when registering for this workshop and your profile will be reviewed by a certification specialist.\n\n\n\nCome to this workshop and learn the importance of being registered with the USACE.
X-ALT-DESC;FMTTYPE=text/html:<br />\n<span style="font-size:12px\;"><span style="font-family:times new roman\;"><span style="color:black\;">The Trinity River Vision Authority is hosting a<em><strong> Federal Certification Workshop and System Award Management (SAM) Workshop</strong></em>. &nbsp\;<br />\n<br />\nThe Trinity River Vision Authority project has many contracts that will be let by the United States Army Corps of Engineers (USACE). &nbsp\;If you want to have an opportunity to participate in these contracts\, or any other contracts that the USACE may be letting\, then you MUST be registered in the SAM\, formerly CCR. &nbsp\;</span></span></span><br />\n<br />\n<span style="font-family:times new roman\;"><span style="font-size:11px\;"><strong>IMPORTANT!</strong> Provide your DUNS when registering for this workshop and your profile will be reviewed by a certification specialist.</span></span><br />\n<br />\n<span style="font-size:12px\;"><span style="font-family:times new roman\;"><span style="color:black\;">Come to this workshop and learn the importance of being registered with the USACE.</span></span></span>
LOCATION:307 W. 7th Street\, Suite 100 Fort Worth\, TX 76102 (817) 698-0700
UID:e.1262.2835
SEQUENCE:3
DTSTAMP:20260422T103848Z
URL:https://business.fwmbcc.org/events/details/federal-certification-and-system-award-management-sam-enhancement-workshop-04-21-2016-2835
END:VEVENT

END:VCALENDAR
