BEGIN:VCALENDAR
VERSION:2.0
PRODID:-//ChamberMaster//Event Calendar 2.0//EN
METHOD:PUBLISH
X-PUBLISHED-TTL:P3D
REFRESH-INTERVAL:P3D
CALSCALE:GREGORIAN
BEGIN:VEVENT
DTSTART:20151027T230000Z
DTEND:20151028T010000Z
X-MICROSOFT-CDO-ALLDAYEVENT:FALSE
SUMMARY:FDIC Money Smart-Small Business Financial
DESCRIPTION:Banking Services- Recognizing and evaluating banking services applicable for small businesses.
X-ALT-DESC;FMTTYPE=text/html:Banking Services- Recognizing and evaluating banking services applicable for small businesses.
LOCATION:Ft. Worth Business Assistance Center at 1150 South Freeway\, Ft. Worth TX
UID:e.1262.2275
SEQUENCE:3
DTSTAMP:20260422T091948Z
URL:https://business.fwmbcc.org/events/details/fdic-money-smart-small-business-financial-10-27-2015-2275
END:VEVENT

END:VCALENDAR
