BEGIN:VCALENDAR
VERSION:2.0
PRODID:-//ChamberMaster//Event Calendar 2.0//EN
METHOD:PUBLISH
X-PUBLISHED-TTL:P3D
REFRESH-INTERVAL:P3D
CALSCALE:GREGORIAN
BEGIN:VEVENT
DTSTART:20151107T160000Z
DTEND:20151107T180000Z
X-MICROSOFT-CDO-ALLDAYEVENT:FALSE
SUMMARY:FDIC Financial Management
DESCRIPTION:Credit Reporting: Demystifying credit reporting and developing strategies for building and improving credit.
X-ALT-DESC;FMTTYPE=text/html:Credit Reporting: Demystifying credit reporting and developing strategies for building and improving credit.
LOCATION:1150 S. Freeway\, Ft. Worth Tx - Ft Worth Business Assistance Center
UID:e.1262.2293
SEQUENCE:3
DTSTAMP:20260422T104336Z
URL:https://business.fwmbcc.org/events/details/fdic-financial-management-11-07-2015-2293
END:VEVENT

END:VCALENDAR
