BEGIN:VCALENDAR
VERSION:2.0
PRODID:-//ChamberMaster//Event Calendar 2.0//EN
METHOD:PUBLISH
X-PUBLISHED-TTL:P3D
REFRESH-INTERVAL:P3D
CALSCALE:GREGORIAN
BEGIN:VEVENT
DTSTART:20150905T130000Z
DTEND:20150905T170000Z
X-MICROSOFT-CDO-ALLDAYEVENT:FALSE
SUMMARY:Farmers Market at Botanical Research Institute of Texas
DESCRIPTION:Farmers Market 1st Saturday of each month April-October. Variety of fresh\, seasonal produce from farms & community gardens. Food Vendors and family entertainment.
X-ALT-DESC;FMTTYPE=text/html:Farmers Market 1st Saturday of each month April-October. Variety of fresh\, seasonal produce from farms &amp\; community gardens. Food Vendors and family entertainment.
LOCATION:1700 University Drive\, Ft Worth TX
UID:e.1262.2238
SEQUENCE:3
DTSTAMP:20260422T073922Z
URL:https://business.fwmbcc.org/events/details/farmers-market-at-botanical-research-institute-of-texas-09-05-2015-2238
END:VEVENT

END:VCALENDAR
