BEGIN:VCALENDAR
VERSION:2.0
PRODID:-//ChamberMaster//Event Calendar 2.0//EN
METHOD:PUBLISH
X-PUBLISHED-TTL:P3D
REFRESH-INTERVAL:P3D
CALSCALE:GREGORIAN
BEGIN:VEVENT
DTSTART:20180819T170000Z
DTEND:20180819T210000Z
X-MICROSOFT-CDO-ALLDAYEVENT:FALSE
SUMMARY:FAMILY REUNIFICATION BACK-TO-SCHOOL BLOCK PARTY BASH
DESCRIPTION:The A.S.A.P.P. Barber Salon is partnering with T. D. Jakes Ministries' Texas Offenders Reentry Initiative (T.O.R.I.) on Sunday\, August 19\, 2017 to give free haircuts during this Back to School Block Party event.  \n\n\n\nFeaturing - Bounce House - Games- Live Music - Free Food - Clothing Giveaway - Women's Heath Screening - Mobile HIV Testing - Free Haircuts - School Supplies and More!\n\n\n\nAll ages are welcome!!
X-ALT-DESC;FMTTYPE=text/html:<br />\n<br />\n<span style="color:#DAA520\;"><strong>The A.S.A.P.P. Barber Salon is partnering with T. D. Jakes Ministries&#39\; Texas Offenders Reentry Initiative (T.O.R.I.) on Sunday\, August 19\, 2017 to give free haircuts during this Back to School Block Party event.&nbsp\;&nbsp\;<br />\n<br />\nFeaturing - Bounce House - Games- Live Music - Free Food - Clothing Giveaway - Women&#39\;s Heath Screening - Mobile HIV Testing - Free Haircuts - School Supplies and More!<br />\n<br />\nAll ages are welcome!!</strong></span>
LOCATION:The Cedarcrest Salvation Army 1007 Hutchins Dallas\, Texas 75203
UID:e.1262.4131
SEQUENCE:3
DTSTAMP:20260422T104600Z
URL:https://business.fwmbcc.org/events/details/family-reunification-back-to-school-block-party-bash-4131
END:VEVENT

END:VCALENDAR
