BEGIN:VCALENDAR
VERSION:2.0
PRODID:-//ChamberMaster//Event Calendar 2.0//EN
METHOD:PUBLISH
X-PUBLISHED-TTL:P3D
REFRESH-INTERVAL:P3D
CALSCALE:GREGORIAN
BEGIN:VEVENT
DTSTART:20151017T150000Z
DTEND:20151017T190000Z
X-MICROSOFT-CDO-ALLDAYEVENT:FALSE
SUMMARY:Fall Health Fair
DESCRIPTION:Fall Health Fair in Observance of Breast Cancer Awareness Month. Vendors and more!!!!
X-ALT-DESC;FMTTYPE=text/html:Fall Health Fair in Observance of Breast Cancer Awareness Month. Vendors and more!!!!
LOCATION:Golden Gate Church of God In Christ - 4801 Wilbarger St.\, Ft. Worth TX 76119 - Fellowship Hall
UID:e.1262.2277
SEQUENCE:3
DTSTAMP:20260422T091250Z
URL:https://business.fwmbcc.org/events/details/fall-health-fair-10-17-2015-2277
END:VEVENT

END:VCALENDAR
