BEGIN:VCALENDAR
VERSION:2.0
PRODID:-//ChamberMaster//Event Calendar 2.0//EN
METHOD:PUBLISH
X-PUBLISHED-TTL:P3D
REFRESH-INTERVAL:P3D
CALSCALE:GREGORIAN
BEGIN:VEVENT
DTSTART:20160219T190000Z
DTEND:20160222T030000Z
X-MICROSOFT-CDO-ALLDAYEVENT:FALSE
SUMMARY:FAB NOW Conference & Expo of The Tx. MAKERS Guild
DESCRIPTION:The Conference features presenters from throughout the region\, as well as live streamed presentations from elsewhere in the country. On Saturday (2/20)\, the EXPO @ FAB NOW focuses on "Students MAKE\," showcasing the creativity of student makers from K-12 though college.  Educators\, craftspeople and small business developers can learn and experience hands-on demos and activities that bring together 3D printing\, computer numerically controlled production resources\, art and design for creative expression and community-oriented problem solving.
X-ALT-DESC;FMTTYPE=text/html:<strong>The Conference features presenters from throughout the region\, as well as live streamed presentations from elsewhere in the country. On Saturday (2/20)\, the EXPO @ FAB NOW focuses on &quot\;Students MAKE\,&quot\; showcasing the creativity of student makers from K-12 though college. &nbsp\;Educators\, craftspeople and small business developers can learn and experience hands-on demos and activities that bring together 3D printing\, computer numerically controlled production resources\, art and design for creative expression and community-oriented problem solving.</strong>
LOCATION:Tarrant County College\, Trinity River Campus\, Fort Worth\, TX
UID:e.1262.2708
SEQUENCE:3
DTSTAMP:20260422T122016Z
URL:https://business.fwmbcc.org/events/details/fab-now-conference-expo-of-the-tx-makers-guild-02-19-2016-2708
END:VEVENT

END:VCALENDAR
