BEGIN:VCALENDAR
VERSION:2.0
PRODID:-//ChamberMaster//Event Calendar 2.0//EN
METHOD:PUBLISH
X-PUBLISHED-TTL:P3D
REFRESH-INTERVAL:P3D
CALSCALE:GREGORIAN
BEGIN:VEVENT
DTSTART:20150926T140000Z
DTEND:20150926T210000Z
X-MICROSOFT-CDO-ALLDAYEVENT:FALSE
SUMMARY:ExxonMobil Science Day at the Dallas Zoo
DESCRIPTION:Teachers\, parents and students are invited to enjoy fun and innovative ways to connect with the Zoo and Aquarium educators and community partners. All new hands-on activity station for PreK - 8th grade.
X-ALT-DESC;FMTTYPE=text/html:Teachers\, parents and students are invited to enjoy fun and innovative ways to connect with the Zoo and Aquarium educators and community partners. All new hands-on activity station for PreK - 8th grade.
LOCATION:Dallas Zoo
UID:e.1262.2256
SEQUENCE:3
DTSTAMP:20260422T073703Z
URL:https://business.fwmbcc.org/events/details/exxonmobil-science-day-at-the-dallas-zoo-09-26-2015-2256
END:VEVENT

END:VCALENDAR
