BEGIN:VCALENDAR
VERSION:2.0
PRODID:-//ChamberMaster//Event Calendar 2.0//EN
METHOD:PUBLISH
X-PUBLISHED-TTL:P3D
REFRESH-INTERVAL:P3D
CALSCALE:GREGORIAN
BEGIN:VEVENT
DTSTART:20180627T163000Z
DTEND:20180627T183000Z
X-MICROSOFT-CDO-ALLDAYEVENT:FALSE
SUMMARY:Export and Import Business Workshop - Growing Your Sales Internationally
DESCRIPTION:Small businesses looking to increase sales and profit\, reduce dependence on the domestic market and stabilize seasonal fluctuations should consider importing and exporting. With nearly 96 percent of consumers living outside the U.S. and two-thirds of the world's purchasing power in foreign countries\, opportunities await U.S. small business.\n\n \n\nGo where the customers are. There is a significant opportunity for small businesses to profit from importing and exporting operations.\n\n \n\nDo you have what it takes to become a successful international business? Are you ready to make international sales? Importing / Exporting offers great opportunities but requires preparation and planning. \n\nThe workshops will help you gain the knowledge to develop and implement an international plan. You will become acquainted with the key components of an effective import/export plan. The instructors will raise questions you should answer to complete your plan and provide the resources to help you answer those questions.\n\n \n\n   * Organizational and product readiness\,\n\n   * Market research\,\n\n   * Guidance for developing your strategy and marketing plan\,\n\n   * Promoting your products in target market\, and\n\n   * Complying with US and foreign regulations.\n\n   * Getting Set-up Trade Financing and other financing  \n\n\n\n                                  Lunch Included.\n\n \n\nhttp://events.constantcontact.com/register/event?llr=fg4jspcab&oeidk=a07efe4x8p359ac46b9
X-ALT-DESC;FMTTYPE=text/html:<div style="margin-left: 15px\; color: rgb(91\, 91\, 91)\; font-size: 12px\;"><span style="font-family: Arial\, Verdana\, Helvetica\, sans-serif\; font-size: 12px\;">Small businesses looking to increase sales and profit\, reduce dependence on the domestic market and stabilize seasonal fluctuations should consider importing and exporting.&nbsp\;With nearly 96 percent of consumers living outside the U.S. and two-thirds of the world&rsquo\;s purchasing power in foreign countries\, opportunities await U.S. small business.</span></div>\n\n<div style="color: rgb(51\, 51\, 51)\; font-family: &quot\;Times New Roman&quot\;\, Times\, serif\; font-size: 16px\; background-color: rgb(255\, 255\, 255)\;">&nbsp\;</div>\n\n<div style="color: rgb(51\, 51\, 51)\; font-family: &quot\;Times New Roman&quot\;\, Times\, serif\; font-size: 16px\; background-color: rgb(255\, 255\, 255)\;"><span style="font-family: Arial\, Verdana\, Helvetica\, sans-serif\; font-size: 12px\;">Go where the customers are. There is a significant opportunity for small businesses to profit from importing and exporting operations.</span></div>\n\n<div style="color: rgb(51\, 51\, 51)\; font-family: &quot\;Times New Roman&quot\;\, Times\, serif\; font-size: 16px\; background-color: rgb(255\, 255\, 255)\;">&nbsp\;</div>\n\n<div style="color: rgb(51\, 51\, 51)\; font-family: &quot\;Times New Roman&quot\;\, Times\, serif\; font-size: 16px\; background-color: rgb(255\, 255\, 255)\;"><span style="font-family: Arial\, Verdana\, Helvetica\, sans-serif\; font-size: 12px\;">Do you have what it takes to become a successful international business? Are you ready to make international sales? Importing / Exporting offers great opportunities but requires preparation and planning.&nbsp\;</span></div>\n\n<div style="color: rgb(51\, 51\, 51)\; font-family: &quot\;Times New Roman&quot\;\, Times\, serif\; font-size: 16px\; background-color: rgb(255\, 255\, 255)\;"><span style="font-family: Arial\, Verdana\, Helvetica\, sans-serif\; font-size: 12px\;">The workshops will help you gain the knowledge to develop and implement an international plan. You will become acquainted with the key components of an effective import/export plan.&nbsp\;The instructors will raise questions you should answer to complete your plan and provide the resources to help you answer those questions.</span></div>\n\n<div style="color: rgb(51\, 51\, 51)\; font-family: &quot\;Times New Roman&quot\;\, Times\, serif\; font-size: 16px\; background-color: rgb(255\, 255\, 255)\;">&nbsp\;</div>\n\n<div style="color: rgb(51\, 51\, 51)\; font-family: &quot\;Times New Roman&quot\;\, Times\, serif\; font-size: 16px\; background-color: rgb(255\, 255\, 255)\;"><span style="font-family: Arial\, Verdana\, Helvetica\, sans-serif\; font-size: 12px\;">&nbsp\;&nbsp\;&nbsp\;* Organizational and product readiness\,</span></div>\n\n<div style="color: rgb(51\, 51\, 51)\; font-family: &quot\;Times New Roman&quot\;\, Times\, serif\; font-size: 16px\; background-color: rgb(255\, 255\, 255)\;"><span style="font-family: Arial\, Verdana\, Helvetica\, sans-serif\; font-size: 12px\;">&nbsp\;&nbsp\;&nbsp\;* Market research\,</span></div>\n\n<div style="color: rgb(51\, 51\, 51)\; font-family: &quot\;Times New Roman&quot\;\, Times\, serif\; font-size: 16px\; background-color: rgb(255\, 255\, 255)\;"><span style="font-family: Arial\, Verdana\, Helvetica\, sans-serif\; font-size: 12px\;">&nbsp\;&nbsp\;&nbsp\;* Guidance for developing your strategy and marketing plan\,</span></div>\n\n<div style="color: rgb(51\, 51\, 51)\; font-family: &quot\;Times New Roman&quot\;\, Times\, serif\; font-size: 16px\; background-color: rgb(255\, 255\, 255)\;"><span style="font-family: Arial\, Verdana\, Helvetica\, sans-serif\; font-size: 12px\;">&nbsp\;&nbsp\;&nbsp\;* Promoting your products in target market\, and</span></div>\n\n<div style="color: rgb(51\, 51\, 51)\; font-family: &quot\;Times New Roman&quot\;\, Times\, serif\; font-size: 16px\; background-color: rgb(255\, 255\, 255)\;"><span style="font-family: Arial\, Verdana\, Helvetica\, sans-serif\; font-size: 12px\;">&nbsp\;&nbsp\;&nbsp\;* Complying with US and foreign regulations.</span></div>\n\n<div style="color: rgb(51\, 51\, 51)\; font-family: &quot\;Times New Roman&quot\;\, Times\, serif\; font-size: 16px\; background-color: rgb(255\, 255\, 255)\;"><span style="font-family: Arial\, Verdana\, Helvetica\, sans-serif\; font-size: 12px\;">&nbsp\; &nbsp\;*&nbsp\;Getting Set-up Trade Financing and other financing&nbsp\;&nbsp\;</span></div>\n\n<div style="color: rgb(51\, 51\, 51)\; font-family: &quot\;Times New Roman&quot\;\, Times\, serif\; font-size: 16px\; background-color: rgb(255\, 255\, 255)\;"><br />\n<span style="color: rgb(255\, 0\, 0)\; font-family: Arial\, Verdana\, Helvetica\, sans-serif\; font-size: 19px\;">&nbsp\; &nbsp\; &nbsp\; &nbsp\; &nbsp\; &nbsp\; &nbsp\; &nbsp\; &nbsp\; &nbsp\; &nbsp\; &nbsp\; &nbsp\; &nbsp\; &nbsp\; &nbsp\; &nbsp\; Lunch Included.</span></div>\n\n<div style="color: rgb(51\, 51\, 51)\; font-family: &quot\;Times New Roman&quot\;\, Times\, serif\; font-size: 16px\; background-color: rgb(255\, 255\, 255)\;">&nbsp\;</div>\n\n<div style="color: rgb(51\, 51\, 51)\; font-family: &quot\;Times New Roman&quot\;\, Times\, serif\; font-size: 16px\; background-color: rgb(255\, 255\, 255)\;"><a data-saferedirecturl="https://www.google.com/url?hl=en&amp\;q=http://events.constantcontact.com/register/event?llr%3Dfg4jspcab%26oeidk%3Da07efe4x8p359ac46b9&amp\;source=gmail&amp\;ust=1528295915605000&amp\;usg=AFQjCNGOkx2aahQLeiEeFeDTQ94bv7GLzQ" href="http://events.constantcontact.com/register/event?llr=fg4jspcab&amp\;oeidk=a07efe4x8p359ac46b9" style="color: rgb(17\, 85\, 204)\;" target="_blank">http://events.constantcontact.<wbr />com/register/event?llr=fg4jspc<wbr />ab&amp\;oeidk=a07efe4x8p359ac46b9</a></div>\n
LOCATION:Grand Prairie Chamber of Commerce 900 Conover Drive Grand Prairie\, TX 75051
UID:e.1262.4112
SEQUENCE:3
DTSTAMP:20260422T073411Z
URL:https://business.fwmbcc.org/events/details/export-and-import-business-workshop-growing-your-sales-internationally-4112
END:VEVENT

END:VCALENDAR
