BEGIN:VCALENDAR
VERSION:2.0
PRODID:-//ChamberMaster//Event Calendar 2.0//EN
METHOD:PUBLISH
X-PUBLISHED-TTL:P3D
REFRESH-INTERVAL:P3D
CALSCALE:GREGORIAN
BEGIN:VEVENT
DTSTART:20160227T180000Z
DTEND:20160228T030000Z
X-MICROSOFT-CDO-ALLDAYEVENT:FALSE
SUMMARY:Experience Arlington Cinema 2016
DESCRIPTION:Presented by the Arlington Film Society\, this event features two short film showcases\, filmmaking workshops and a special tribute to legendary Arlington filmmaker Andy Anderson.  They will also shine a spotlight on exciting films created by Arlington high school and college filmmakers.
X-ALT-DESC;FMTTYPE=text/html:<strong>Presented by the Arlington Film Society\, this event features two short film showcases\, filmmaking workshops and a special tribute to legendary Arlington filmmaker Andy Anderson. &nbsp\;They will also shine a spotlight on exciting films created by Arlington high school and college filmmakers.</strong>
LOCATION:Fine Arts Building at the Univ. of Texas at Arlington\, 502 S. Cooper St.\, Room 148\, Arlington TX
UID:e.1262.2697
SEQUENCE:3
DTSTAMP:20260422T121834Z
URL:https://business.fwmbcc.org/events/details/experience-arlington-cinema-2016-02-27-2016-2697
END:VEVENT

END:VCALENDAR
