BEGIN:VCALENDAR
VERSION:2.0
PRODID:-//ChamberMaster//Event Calendar 2.0//EN
METHOD:PUBLISH
X-PUBLISHED-TTL:P3D
REFRESH-INTERVAL:P3D
CALSCALE:GREGORIAN
BEGIN:VEVENT
DTSTART:20180725T140000Z
DTEND:20180725T160000Z
X-MICROSOFT-CDO-ALLDAYEVENT:FALSE
SUMMARY:Everything You Want to Know About Buying a Franchise this year
DESCRIPTION:Learn the differences between launching a start-up business\, buying an existing business\, and investing in a franchise business\, and find out how to decide which option is the best for a particular situation.\n\n This program is presented in partnership with SCORE\, the non-profit mentoring arm of the U.S. Small Business Administration. SCORE is an all-volunteer group with real-world business experience that is dedicated to helping small businesses succeed.\n\nhttp://events.constantcontact.com/register/event?llr=fg4jspcab&oeidk=a07effgy60a6f34d0dd
X-ALT-DESC;FMTTYPE=text/html:<div style="color: rgb(51\, 51\, 51)\; font-family: &quot\;Times New Roman&quot\;\, Times\, serif\; font-size: 16px\; background-color: rgb(255\, 255\, 255)\;"><span style="color: rgb(255\, 0\, 0)\; font-family: Arial\, Verdana\, Helvetica\, sans-serif\;">Learn the differences between launching a start-up business\, buying an existing business\, and investing in a franchise business\, and find out how to decide which option is the best for a particular situation.</span></div>\n\n<div style="color: rgb(51\, 51\, 51)\; font-family: &quot\;Times New Roman&quot\;\, Times\, serif\; font-size: 16px\; background-color: rgb(255\, 255\, 255)\;"><span style="font-family: Arial\, Verdana\, Helvetica\, sans-serif\; font-style: italic\;">&nbsp\;This program is presented in partnership with SCORE\, the non-profit mentoring arm of the U.S. Small Business Administration. SCORE is an all-volunteer group with real-world business experience that is dedicated to helping small businesses succeed.</span></div>\n\n<div style="color: rgb(51\, 51\, 51)\; font-family: &quot\;Times New Roman&quot\;\, Times\, serif\; font-size: 16px\; background-color: rgb(255\, 255\, 255)\;"><a data-saferedirecturl="https://www.google.com/url?hl=en&amp\;q=http://events.constantcontact.com/register/event?llr%3Dfg4jspcab%26oeidk%3Da07effgy60a6f34d0dd&amp\;source=gmail&amp\;ust=1531514108035000&amp\;usg=AFQjCNHZec4VpUbfHGmhfX28HekeEO8Zvg" href="http://events.constantcontact.com/register/event?llr=fg4jspcab&amp\;oeidk=a07effgy60a6f34d0dd" style="color: rgb(17\, 85\, 204)\;" target="_blank">http://events.constantcontact.<wbr />com/register/event?llr=fg4jspc<wbr />ab&amp\;oeidk=a07effgy60a6f34d0dd</a></div>\n
LOCATION:HEB Chamber of Commerce 2109 Martin Drive Bedford\, Texas 76021
UID:e.1262.4124
SEQUENCE:3
DTSTAMP:20260422T091908Z
URL:https://business.fwmbcc.org/events/details/everything-you-want-to-know-about-buying-a-franchise-this-year-4124
END:VEVENT

END:VCALENDAR
