BEGIN:VCALENDAR
VERSION:2.0
PRODID:-//ChamberMaster//Event Calendar 2.0//EN
METHOD:PUBLISH
X-PUBLISHED-TTL:P3D
REFRESH-INTERVAL:P3D
CALSCALE:GREGORIAN
BEGIN:VEVENT
DTSTART:20150521T230000Z
DTEND:20150522T003000Z
X-MICROSOFT-CDO-ALLDAYEVENT:FALSE
SUMMARY:Evening Mixer
DESCRIPTION:Evening Mixer
X-ALT-DESC;FMTTYPE=text/html:Evening Mixer
LOCATION:TBD
UID:e.1262.2200
SEQUENCE:3
DTSTAMP:20260422T005951Z
URL:https://business.fwmbcc.org/events/details/evening-mixer-05-21-2015-2200
END:VEVENT

END:VCALENDAR
