BEGIN:VCALENDAR
VERSION:2.0
PRODID:-//ChamberMaster//Event Calendar 2.0//EN
METHOD:PUBLISH
X-PUBLISHED-TTL:P3D
REFRESH-INTERVAL:P3D
CALSCALE:GREGORIAN
BEGIN:VEVENT
DTSTART:20160524T150000Z
DTEND:20160524T180000Z
X-MICROSOFT-CDO-ALLDAYEVENT:FALSE
SUMMARY:Erma C. Johnson Hadley Building Dedication
DESCRIPTION:Please join the Board of Trustees and Acting Chancellor Angela Robinson of Tarrant County College District to celebrate the dedication of the Erma C. Johnson Hadley Center of Excellence for Aviation\, Transportation\, and Logistics on Tuesday\, May 24\, 2016.  Dedication at 10am\, followed by Open House and self-guided building tours from 10:30am-1pm. Location 2301 Horizon Drive\, Fort Worth\, TX 76177.  Please RSVP by May 13\, 2016 at www.tccd.edu/buildingdedication.
X-ALT-DESC;FMTTYPE=text/html:Please join the Board of Trustees and Acting Chancellor Angela Robinson of Tarrant County College District to celebrate the dedication of the Erma C. Johnson Hadley Center of Excellence for Aviation\, Transportation\, and Logistics on&nbsp\;<span data-term="goog_1256924423" style="border-bottom-width:1px\;border-bottom-style:dashed\;position:relative\;top:-2px\;z-index:0\;" tabindex="0"><span style="position:relative\;top:2px\;z-index:-1\;">Tuesday\, May 24\, 2016</span></span>.&nbsp\; Dedication at&nbsp\;<span data-term="goog_1256924424" style="border-bottom-width:1px\;border-bottom-style:dashed\;position:relative\;top:-2px\;z-index:0\;" tabindex="0"><span style="position:relative\;top:2px\;z-index:-1\;">10am</span></span>\, followed by Open House and self-guided building tours from&nbsp\;<span data-term="goog_1256924425" style="border-bottom-width:1px\;border-bottom-style:dashed\;position:relative\;top:-2px\;z-index:0\;" tabindex="0"><span style="position:relative\;top:2px\;z-index:-1\;">10:30am-1pm</span></span>. Location 2301 Horizon Drive\, Fort Worth\, TX 76177. &nbsp\;Please RSVP by&nbsp\;<span data-term="goog_1256924426" style="border-bottom-width:1px\;border-bottom-style:dashed\;position:relative\;top:-2px\;z-index:0\;" tabindex="0"><span style="position:relative\;top:2px\;z-index:-1\;">May 13\, 2016</span></span>&nbsp\;at&nbsp\;<a href="http://www.tccd.edu/buildingdedication" style="color:rgb(17\, 85\, 204)\;" target="_blank">www.tccd.edu/<wbr />buildingdedication</a>.&nbsp\;<br />\n&nbsp\;
LOCATION:2301 Horizon Drive\, Fort Worth\, TX 76177
UID:e.1262.2856
SEQUENCE:3
DTSTAMP:20260422T073519Z
URL:https://business.fwmbcc.org/events/details/erma-c-johnson-hadley-building-dedication-05-24-2016-2856
END:VEVENT

END:VCALENDAR
