BEGIN:VCALENDAR
VERSION:2.0
PRODID:-//ChamberMaster//Event Calendar 2.0//EN
METHOD:PUBLISH
X-PUBLISHED-TTL:P3D
REFRESH-INTERVAL:P3D
CALSCALE:GREGORIAN
BEGIN:VEVENT
DTSTART:20151002T140000Z
DTEND:20151002T190000Z
X-MICROSOFT-CDO-ALLDAYEVENT:FALSE
SUMMARY:Empowering Seniors-Health and Lifestyle Expo for Caregivers\, Boomers & Seniors
DESCRIPTION:FREE Health Screenings\, Old Drug Disposal\, FREE Flu Shots w/ medicare card\, Meet Dallas Cowboy Legend RANDY WHITE
X-ALT-DESC;FMTTYPE=text/html:FREE Health Screenings\, Old Drug Disposal\, FREE Flu Shots w/ medicare card\, Meet Dallas Cowboy Legend RANDY WHITE
LOCATION:First Baptist Euless-Campus West\, 205 N. Industrial Blvd.\, Bedford TX
UID:e.1262.2267
SEQUENCE:3
DTSTAMP:20260422T092149Z
URL:https://business.fwmbcc.org/events/details/empowering-seniors-health-and-lifestyle-expo-for-caregivers-boomers-seniors-10-02-2015-2267
END:VEVENT

END:VCALENDAR
