BEGIN:VCALENDAR
VERSION:2.0
PRODID:-//ChamberMaster//Event Calendar 2.0//EN
METHOD:PUBLISH
X-PUBLISHED-TTL:P3D
REFRESH-INTERVAL:P3D
CALSCALE:GREGORIAN
BEGIN:VEVENT
DTSTART:20160323T133000Z
DTEND:20160323T150000Z
X-MICROSOFT-CDO-ALLDAYEVENT:FALSE
SUMMARY:Employer Information Breakfast-Blue Zones Project
DESCRIPTION:Blue Zones Project Employer Information Breakfast\n\nLearn how to build a more engaged\, productive workforce.
X-ALT-DESC;FMTTYPE=text/html:Blue Zones Project Employer Information Breakfast<br />\nLearn how to build a more engaged\, productive workforce.
LOCATION:Lou's Place\, Texas Wesleyan University 1112 Wesleyan St.\, Ft. Worth Tx
UID:e.1262.2796
SEQUENCE:3
DTSTAMP:20260422T104814Z
URL:https://business.fwmbcc.org/events/details/employer-information-breakfast-blue-zones-project-03-23-2016-2796
END:VEVENT

END:VCALENDAR
