BEGIN:VCALENDAR
VERSION:2.0
PRODID:-//ChamberMaster//Event Calendar 2.0//EN
METHOD:PUBLISH
X-PUBLISHED-TTL:P3D
REFRESH-INTERVAL:P3D
CALSCALE:GREGORIAN
BEGIN:VEVENT
DTSTART:20180725T163000Z
DTEND:20180725T180000Z
X-MICROSOFT-CDO-ALLDAYEVENT:FALSE
SUMMARY:Employee Lifecycle: Interviewing\, Hiring\, and What Comes Next
DESCRIPTION:Employee Lifecycle: Interviewing\, Hiring\, and What Comes Next is sponsored by SCORE.\n\nLunch will be provided.\n\nLearn about some of the most important employee management issues for small businesses   and how you can take action today. Join SCORE at our upcoming seminar and learn how to avoid some of the most common employee handbook mistakes for small businesses. \n\nOur Certified SCORE Mentor and HR professional will help you understand important HR issues and present effective strategies for staying current and compliant. Which of these employee lifecycle practices could put your business at risk? \n\nLearn more about: \n\n1 . Federal Laws: Find out which federal laws may impact your hiring practices \n\n2. Progressive Discipline: Learn how to handle employee performance issues and policy violations \n\n3. Legal Matters: Review legal issues with employee termination \n\n4. Risky Hiring Practices: Identify the costs of poor hiring \n\n5. Implementation: Learn how to execute an effective recruiting and hiring process.\n\nhttp://events.constantcontact.com/register/event?llr=fg4jspcab&oeidk=a07effnmb8ta5e866da
X-ALT-DESC;FMTTYPE=text/html:<div style="font-family: &quot\;Times New Roman&quot\;\, Times\, serif\; font-size: 16px\;"><span style="font-family: Arial\, Verdana\, Helvetica\, sans-serif\; font-size: 19px\;">Employee Lifecycle: Interviewing\, Hiring\, and What Comes Next is sponsored by SCORE.<br />\nLunch will be provided.</span></div>\n\n<div style="font-family: &quot\;Times New Roman&quot\;\, Times\, serif\; font-size: 16px\;"><span style="font-family: Arial\, Verdana\, Helvetica\, sans-serif\; font-size: 19px\;">Learn about some of the most important employee management issues for small businesses &ndash\; and how you can take action today. Join SCORE at our upcoming seminar and learn how to avoid some of the most common employee handbook mistakes for small businesses.&nbsp\;</span></div>\n\n<div style="font-family: &quot\;Times New Roman&quot\;\, Times\, serif\; font-size: 16px\;"><span style="font-family: Arial\, Verdana\, Helvetica\, sans-serif\; font-size: 19px\;">Our Certified SCORE Mentor and HR professional will help you understand important HR issues and present effective strategies for staying current and compliant. Which of these employee lifecycle practices could put your business at risk?&nbsp\;</span></div>\n\n<div style="font-family: &quot\;Times New Roman&quot\;\, Times\, serif\; font-size: 16px\;"><span style="font-family: Arial\, Verdana\, Helvetica\, sans-serif\; font-size: 19px\;">Learn more about:&nbsp\;</span></div>\n\n<div style="font-family: &quot\;Times New Roman&quot\;\, Times\, serif\; font-size: 16px\;"><span style="font-family: Arial\, Verdana\, Helvetica\, sans-serif\; font-size: 19px\;">1 . Federal Laws: Find out which federal laws may impact your hiring practices&nbsp\;</span></div>\n\n<div style="font-family: &quot\;Times New Roman&quot\;\, Times\, serif\; font-size: 16px\;"><span style="font-family: Arial\, Verdana\, Helvetica\, sans-serif\; font-size: 19px\;">2. Progressive Discipline: Learn how to handle employee performance issues and policy violations&nbsp\;</span></div>\n\n<div style="font-family: &quot\;Times New Roman&quot\;\, Times\, serif\; font-size: 16px\;"><span style="font-family: Arial\, Verdana\, Helvetica\, sans-serif\; font-size: 19px\;">3. Legal Matters: Review legal issues with employee termination&nbsp\;</span></div>\n\n<div style="font-family: &quot\;Times New Roman&quot\;\, Times\, serif\; font-size: 16px\;"><span style="font-family: Arial\, Verdana\, Helvetica\, sans-serif\; font-size: 19px\;">4. Risky Hiring Practices: Identify the costs of poor hiring&nbsp\;</span></div>\n\n<div style="font-family: &quot\;Times New Roman&quot\;\, Times\, serif\; font-size: 16px\;"><span style="font-family: Arial\, Verdana\, Helvetica\, sans-serif\; font-size: 19px\;">5. Implementation: Learn how to execute an effective recruiting and hiring process.</span></div>\n\n<div style="font-family: &quot\;Times New Roman&quot\;\, Times\, serif\; font-size: 16px\;"><a data-saferedirecturl="https://www.google.com/url?hl=en&amp\;q=http://r20.rs6.net/tn.jsp?f%3D001OUl8_4D22GsOhrVY8gySrP0u8lQNqmPNcu8IbUjnh2jRVqZrplBefm2wPDvKClhOVIHNK_OYtyALvx-Wn_Lt3IALGODsdY3LfRhbJJT1bnRgmBonhDVFgwrzFeDZoVEuJLUumV3-SHx779olVqqH7-DGDggFNXnroipEYipmxrVjNV7pyMzVKfBmM1WbpSAT8BGZ-Kii9PBfteVPSlZt2BtAAwc8atNYnaxCYdSmhu24cqRKFUJ3Ew%3D%3D%26c%3DYPjvK8qF2o6mrUsiYwJTD-8ILrAn8nUfZxxuG2FWujREB7R5e7eQ-w%3D%3D%26ch%3DO6tYgmwE8i35KX0G90ixiLrm50qmARnrIti2Vf0S-cxs0uUJEm_Ckw%3D%3D&amp\;source=gmail&amp\;ust=1531514108034000&amp\;usg=AFQjCNGEyRjdazHR8RNXsARncxL3hDH0Wg" href="http://r20.rs6.net/tn.jsp?f=001OUl8_4D22GsOhrVY8gySrP0u8lQNqmPNcu8IbUjnh2jRVqZrplBefm2wPDvKClhOVIHNK_OYtyALvx-Wn_Lt3IALGODsdY3LfRhbJJT1bnRgmBonhDVFgwrzFeDZoVEuJLUumV3-SHx779olVqqH7-DGDggFNXnroipEYipmxrVjNV7pyMzVKfBmM1WbpSAT8BGZ-Kii9PBfteVPSlZt2BtAAwc8atNYnaxCYdSmhu24cqRKFUJ3Ew==&amp\;c=YPjvK8qF2o6mrUsiYwJTD-8ILrAn8nUfZxxuG2FWujREB7R5e7eQ-w==&amp\;ch=O6tYgmwE8i35KX0G90ixiLrm50qmARnrIti2Vf0S-cxs0uUJEm_Ckw==" style="color: rgb(91\, 91\, 91)\; font-family: Arial\, Verdana\, Helvetica\, sans-serif\; font-size: 12px\;" target="_blank">http://events.constantcontact.<wbr />com/register/event?llr=fg4jspc<wbr />ab&amp\;oeidk=a07effnmb8ta5e866da</a></div>\n
LOCATION:SCORE Conference Room 1150 South Freeway Fort Worth\, Texas 76104
UID:e.1262.4125
SEQUENCE:3
DTSTAMP:20260422T091514Z
URL:https://business.fwmbcc.org/events/details/employee-lifecycle-interviewing-hiring-and-what-comes-next-4125
END:VEVENT

END:VCALENDAR
