BEGIN:VCALENDAR
VERSION:2.0
PRODID:-//ChamberMaster//Event Calendar 2.0//EN
METHOD:PUBLISH
X-PUBLISHED-TTL:P3D
REFRESH-INTERVAL:P3D
CALSCALE:GREGORIAN
BEGIN:VEVENT
DTSTART:20180609T140000Z
DTEND:20180609T160000Z
X-MICROSOFT-CDO-ALLDAYEVENT:FALSE
SUMMARY:Email Marketing - The Power of the Inbox in 2018
DESCRIPTION:What is the first impression you give when they see you in their email inbox?  And when they see you there\, what do they do?\nThis powerful seminar takes you step-by-step through the keys to effective email marketing:\n\nWhat it really is (and isn't)\n\nWhat it can do for your business\n\nAnd the five easy steps you must take to harness the power of the inbox!\n\n\n	Grow  a healthy  list\n	Create great content\n	Customize a beautiful\, mobile-friendly template that matches your brand\n	How to get your emails opened\n	Tracking your results\n\n\nFrom revealing why regular email doesn't work\, to insider tips and techniques like automated list building tools and the design elements that work (and those that don't!)\, this seminar will give you the keys to the most effective marketing you can do:   email marketing.\n\nJoin us!\n\nLearn first hand about various marketing campaigns\, track reporting and customer feedback all within the scope of using email marketing as your tool of choice. \n\n\n\nIt is the Power of the Inbox!\n\n \n\nhttp://events.constantcontact.com/register/event?llr=fg4jspcab&oeidk=a07efcx5y4a613f5987
X-ALT-DESC;FMTTYPE=text/html:<div style="margin-left: 15px\; color: rgb(91\, 91\, 91)\;"><span style="font-family: Arial\, Verdana\, Helvetica\, sans-serif\; font-size: 12px\;">What is the first impression&nbsp\;you&nbsp\;give when&nbsp\;they&nbsp\;see you in their email inbox?&nbsp\; And when they see you there\, what do they&nbsp\;do?</span>\n<div style="color: rgb(51\, 51\, 51)\; font-family: &quot\;Times New Roman&quot\;\, Times\, serif\; font-size: 16px\; background-color: rgb(255\, 255\, 255)\;"><span style="font-family: Arial\, Verdana\, Helvetica\, sans-serif\; font-size: 12px\;">This powerful seminar takes you step-by-step through the keys to effective email marketing:</span></div>\n\n<div style="color: rgb(51\, 51\, 51)\; font-family: &quot\;Times New Roman&quot\;\, Times\, serif\; font-size: 16px\; background-color: rgb(255\, 255\, 255)\;"><span style="font-family: Arial\, Verdana\, Helvetica\, sans-serif\; font-size: 12px\;">What it&nbsp\;really&nbsp\;is (and isn&rsquo\;t)</span></div>\n\n<div style="color: rgb(51\, 51\, 51)\; font-family: &quot\;Times New Roman&quot\;\, Times\, serif\; font-size: 16px\; background-color: rgb(255\, 255\, 255)\;"><span style="font-family: Arial\, Verdana\, Helvetica\, sans-serif\; font-size: 12px\;">What it can do for&nbsp\;your business</span></div>\n\n<div style="color: rgb(51\, 51\, 51)\; font-family: &quot\;Times New Roman&quot\;\, Times\, serif\; font-size: 16px\; background-color: rgb(255\, 255\, 255)\;"><span style="font-family: Arial\, Verdana\, Helvetica\, sans-serif\; font-size: 12px\;">And the five easy steps&nbsp\;you must take&nbsp\;to harness the power of the inbox!</span></div>\n\n<ul style="color: rgb(51\, 51\, 51)\; font-family: &quot\;Times New Roman&quot\;\, Times\, serif\; font-size: 16px\; background-color: rgb(255\, 255\, 255)\;">\n	<li style="margin-left: 15px\;"><span style="font-family: Arial\, Verdana\, Helvetica\, sans-serif\; font-size: 12px\;">Grow&nbsp\;&nbsp\;a healthy&nbsp\;&nbsp\;list</span></li>\n	<li style="margin-left: 15px\;"><span style="font-family: Arial\, Verdana\, Helvetica\, sans-serif\; font-size: 12px\;">Create great content</span></li>\n	<li style="margin-left: 15px\;"><span style="font-family: Arial\, Verdana\, Helvetica\, sans-serif\; font-size: 12px\;">Customize a&nbsp\;beautiful\, mobile-friendly template that matches your brand</span></li>\n	<li style="margin-left: 15px\;"><span style="font-family: Arial\, Verdana\, Helvetica\, sans-serif\; font-size: 12px\;">How to get your emails opened</span></li>\n	<li style="margin-left: 15px\;"><span style="font-family: Arial\, Verdana\, Helvetica\, sans-serif\; font-size: 12px\;">Tracking your results</span></li>\n</ul>\n\n<div style="color: rgb(51\, 51\, 51)\; font-family: &quot\;Times New Roman&quot\;\, Times\, serif\; font-size: 16px\; background-color: rgb(255\, 255\, 255)\;"><span style="font-family: Arial\, Verdana\, Helvetica\, sans-serif\; font-size: 12px\;">From revealing why regular email doesn&#39\;t work\, to insider tips and&nbsp\;techniques like automated list&nbsp\;building tools and the design elements that work (and those that&nbsp\;don&#39\;t!)\, this seminar will give&nbsp\;you the&nbsp\;keys to the&nbsp\;most&nbsp\;effective marketing you can do:&nbsp\; &nbsp\;email marketing.<br />\nJoin us!</span></div>\n\n<div style="color: rgb(51\, 51\, 51)\; font-family: &quot\;Times New Roman&quot\;\, Times\, serif\; font-size: 16px\; background-color: rgb(255\, 255\, 255)\;"><span style="font-family: Arial\, Verdana\, Helvetica\, sans-serif\; font-size: 12px\;">Learn first hand about various marketing campaigns\, track reporting and customer feedback all within the scope of using email marketing as your tool of choice.&nbsp\;<br />\n<br />\nIt is the Power of the Inbox!</span></div>\n\n<div style="color: rgb(51\, 51\, 51)\; font-family: &quot\;Times New Roman&quot\;\, Times\, serif\; font-size: 16px\; background-color: rgb(255\, 255\, 255)\;">&nbsp\;</div>\n\n<div style="color: rgb(51\, 51\, 51)\; font-family: &quot\;Times New Roman&quot\;\, Times\, serif\; font-size: 16px\; background-color: rgb(255\, 255\, 255)\;"><a data-saferedirecturl="https://www.google.com/url?hl=en&amp\;q=http://events.constantcontact.com/register/event?llr%3Dfg4jspcab%26oeidk%3Da07efcx5y4a613f5987&amp\;source=gmail&amp\;ust=1528295915604000&amp\;usg=AFQjCNFzPf0k4PL-3k2pDkGzIDIYbBqpgg" href="http://events.constantcontact.com/register/event?llr=fg4jspcab&amp\;oeidk=a07efcx5y4a613f5987" style="color: rgb(17\, 85\, 204)\;" target="_blank">http://events.constantcontact.<wbr />com/register/event?llr=fg4jspc<wbr />ab&amp\;oeidk=a07efcx5y4a613f5987</a></div>\n</div>\n\n<div style="color: rgb(51\, 51\, 51)\; background-color: rgb(255\, 255\, 255)\;"><font face="Arial\, Verdana\, Helvetica\, sans-serif"><span style="font-size: 12px\;">&nbsp\;&nbsp\;</span></font></div>\n
LOCATION:Grand Prairie Chamber of Commerce 900 Conover Dr\, Grand Prairie\, TX 75051
UID:e.1262.4105
SEQUENCE:3
DTSTAMP:20260422T073820Z
URL:https://business.fwmbcc.org/events/details/email-marketing-the-power-of-the-inbox-in-2018-4105
END:VEVENT

END:VCALENDAR
