BEGIN:VCALENDAR
VERSION:2.0
PRODID:-//ChamberMaster//Event Calendar 2.0//EN
METHOD:PUBLISH
X-PUBLISHED-TTL:P3D
REFRESH-INTERVAL:P3D
CALSCALE:GREGORIAN
BEGIN:VEVENT
DTSTART:20180913T230000Z
DTEND:20180914T010000Z
X-MICROSOFT-CDO-ALLDAYEVENT:FALSE
SUMMARY:Edward Jones: Career Opportunities Mixer
DESCRIPTION:Join our Chamber as we host your local Financial Advisors for a career event\n\nand hear about their experiences growing a practice. They\n\nwill share their journey to success and the lessons they learned\n\nalong the way. Edward Jones has extensive training programs\n\nand a network of supportive colleagues across the country.\n\nIf you have leadership skills and strong initiative\, we can teach\n\nyou the skills needed to build a financial services business\n\nat Edward Jones.
X-ALT-DESC;FMTTYPE=text/html:<br />\n<br />\nJoin our Chamber as we host your local Financial Advisors for a career event<br />\nand hear about their experiences growing a practice. They<br />\nwill share their journey to success and the lessons they learned<br />\nalong the way. Edward Jones has extensive training programs<br />\nand a network of supportive colleagues across the country.<br />\nIf you have leadership skills and strong initiative\, we can teach<br />\nyou the skills needed to build a financial services business<br />\nat Edward Jones.
LOCATION:Kent & Co. Wines The Space (Patio) 1309 S. Adams St. Fort Worth\, TX 76104
UID:e.1262.4117
SEQUENCE:3
DTSTAMP:20260422T121853Z
URL:https://business.fwmbcc.org/events/details/edward-jones-career-opportunities-mixer-4117
END:VEVENT

END:VCALENDAR
