BEGIN:VCALENDAR
VERSION:2.0
PRODID:-//ChamberMaster//Event Calendar 2.0//EN
METHOD:PUBLISH
X-PUBLISHED-TTL:P3D
REFRESH-INTERVAL:P3D
CALSCALE:GREGORIAN
BEGIN:VEVENT
DTSTART:20150919T140000Z
DTEND:20150919T180000Z
X-MICROSOFT-CDO-ALLDAYEVENT:FALSE
SUMMARY:Early Childhood Career Day
DESCRIPTION:Career Fair for anyone interested in a career in early childhood development. They will have on-site interviews\, early childhood basic training\, and giveaways.
X-ALT-DESC;FMTTYPE=text/html:Career Fair for anyone interested in a career in early childhood development. They will have on-site interviews\, early childhood basic training\, and giveaways.
LOCATION:2300 Circle Dr.\, Ft. Worth TX 76119
UID:e.1262.2250
SEQUENCE:3
DTSTAMP:20260422T073852Z
URL:https://business.fwmbcc.org/events/details/early-childhood-career-day-09-19-2015-2250
END:VEVENT

END:VCALENDAR
