BEGIN:VCALENDAR
VERSION:2.0
PRODID:-//ChamberMaster//Event Calendar 2.0//EN
METHOD:PUBLISH
X-PUBLISHED-TTL:P3D
REFRESH-INTERVAL:P3D
CALSCALE:GREGORIAN
BEGIN:VEVENT
DTSTART:20160218T173000Z
DTEND:20160218T190000Z
X-MICROSOFT-CDO-ALLDAYEVENT:FALSE
SUMMARY:Dist. 95 Town Hall:Transportation Summit
DESCRIPTION:Join Rep. Nicole Collier and special guests. The event will cover current and future transportation projects that impact our community. Hear from TXDOT\, Ft. Worth T\, and N. Central Tx. Council of Governments.  Lunch will be provided and parking is free.
X-ALT-DESC;FMTTYPE=text/html:<strong>Join Rep. Nicole Collier and special guests. The event will cover current and future transportation projects that impact our community. Hear from TXDOT\, Ft. Worth T\, and N. Central Tx. Council of Governments. &nbsp\;Lunch will be provided and parking is free.</strong>
LOCATION:Tarrant County Opportunity Center\, 5901 Fitzhugh\, Room 1330\, Ft. Worth TX
UID:e.1262.2538
SEQUENCE:3
DTSTAMP:20260422T122809Z
URL:https://business.fwmbcc.org/events/details/dist-95-town-hall-transportation-summit-02-18-2016-2538
END:VEVENT

END:VCALENDAR
