BEGIN:VCALENDAR
VERSION:2.0
PRODID:-//ChamberMaster//Event Calendar 2.0//EN
METHOD:PUBLISH
X-PUBLISHED-TTL:P3D
REFRESH-INTERVAL:P3D
CALSCALE:GREGORIAN
BEGIN:VEVENT
DTSTART:20160205T000000Z
DTEND:20160205T020000Z
X-MICROSOFT-CDO-ALLDAYEVENT:FALSE
SUMMARY:Dinner Party for Life benefitting Cuisine for Healing
DESCRIPTION:6th Annual Dinner Party for Life benefits Cuisine for Healing\, which provides nutritious\, delicious food for people combating disease plus education about the power of healthy food.  Honorary Chair: Rosie Moncrief\, Former First Lady of Fort Worth.
X-ALT-DESC;FMTTYPE=text/html:6th Annual Dinner Party for Life benefits Cuisine for Healing\, which provides nutritious\, delicious food for people combating disease plus education about the power of healthy food.&nbsp\; Honorary Chair: Rosie Moncrief\, Former First Lady of Fort Worth.
LOCATION:The Fort Worth Club\, 306 West 7th St.\, Ft. Worth TX
UID:e.1262.2319
SEQUENCE:3
DTSTAMP:20260422T122041Z
URL:https://business.fwmbcc.org/events/details/dinner-party-for-life-benefitting-cuisine-for-healing-02-04-2016-2319
END:VEVENT

END:VCALENDAR
