BEGIN:VCALENDAR
VERSION:2.0
PRODID:-//ChamberMaster//Event Calendar 2.0//EN
METHOD:PUBLISH
X-PUBLISHED-TTL:P3D
REFRESH-INTERVAL:P3D
CALSCALE:GREGORIAN
BEGIN:VEVENT
DTSTART:20150915T203000Z
DTEND:20150915T233000Z
X-MICROSOFT-CDO-ALLDAYEVENT:FALSE
SUMMARY:DFW Intl. Airport Capital Assistance & Bonding Program Workshop Schedule
DESCRIPTION:Construction Accounting/Understanding & Using Your Financial Statements
X-ALT-DESC;FMTTYPE=text/html:Construction Accounting/Understanding &amp\; Using Your Financial Statements
LOCATION:Willis Training Facility\, 8400 Esters Blvd.\, Suite 190\, Irving TX
UID:e.1262.2246
SEQUENCE:3
DTSTAMP:20260422T091418Z
URL:https://business.fwmbcc.org/events/details/dfw-intl-airport-capital-assistance-bonding-program-workshop-schedule-09-15-2015-2246
END:VEVENT

END:VCALENDAR
