BEGIN:VCALENDAR
VERSION:2.0
PRODID:-//ChamberMaster//Event Calendar 2.0//EN
METHOD:PUBLISH
X-PUBLISHED-TTL:P3D
REFRESH-INTERVAL:P3D
CALSCALE:GREGORIAN
BEGIN:VEVENT
DTSTART:20160218T213000Z
DTEND:20160219T003000Z
X-MICROSOFT-CDO-ALLDAYEVENT:FALSE
SUMMARY:DFW Int'l Airport Rolling Owner Controlled Insurance Program
DESCRIPTION:Banking\, Finance & Access to Capital- *5 C's of Credit *Traditional vs Non-Traditional Loans *Leasing- is is for you? *Why do you need Working Capital and much more!!!
X-ALT-DESC;FMTTYPE=text/html:<strong>Banking\, Finance &amp\; Access to Capital- *5 C&#39\;s of Credit *Traditional vs Non-Traditional Loans *Leasing- is is for you? *Why do you need Working Capital and much more!!!</strong>
LOCATION:Willis Training Facility\, 8400 Esters Blvd\, Suite 190\, Irving TX
UID:e.1262.2512
SEQUENCE:3
DTSTAMP:20260422T121833Z
URL:https://business.fwmbcc.org/events/details/dfw-int-l-airport-rolling-owner-controlled-insurance-program-02-18-2016-2512
END:VEVENT

END:VCALENDAR
