BEGIN:VCALENDAR
VERSION:2.0
PRODID:-//ChamberMaster//Event Calendar 2.0//EN
METHOD:PUBLISH
X-PUBLISHED-TTL:P3D
REFRESH-INTERVAL:P3D
CALSCALE:GREGORIAN
BEGIN:VEVENT
DTSTART:20160421T200000Z
DTEND:20160421T220000Z
X-MICROSOFT-CDO-ALLDAYEVENT:FALSE
SUMMARY:DFW Int'l Airport presents April 2016 Training Classes-IFBs & RFPs
DESCRIPTION:IFBs and RFPs\n\n Preparing a DFW invitation for Bid or Request for Proposal\;\n\nSpecial provisions and required forms
X-ALT-DESC;FMTTYPE=text/html:IFBs and RFPs<br />\n&#8203\;Preparing a DFW invitation for Bid or Request for Proposal\;<br />\nSpecial provisions and required forms
LOCATION:DFW Airport Headquarters Multi-purpose Room 2400 Aviation Drive\, DFW Airport
UID:e.1262.2828
SEQUENCE:3
DTSTAMP:20260422T091718Z
URL:https://business.fwmbcc.org/events/details/dfw-int-l-airport-presents-april-2016-training-classes-ifbs-rfps-04-21-2016-2828
END:VEVENT

END:VCALENDAR
