BEGIN:VCALENDAR
VERSION:2.0
PRODID:-//ChamberMaster//Event Calendar 2.0//EN
METHOD:PUBLISH
X-PUBLISHED-TTL:P3D
REFRESH-INTERVAL:P3D
CALSCALE:GREGORIAN
BEGIN:VEVENT
DTSTART:20160428T170000Z
DTEND:20160428T170000Z
X-MICROSOFT-CDO-ALLDAYEVENT:FALSE
SUMMARY:DFW Int'l Airport presents April 2016 Training Classes-Contracts\, Change Orders & Invoicing
DESCRIPTION:Contracts\, Change Orders and Invoicing\n\nNuts & bolts of a DFW contract\; Best practices\, Hear Airport staff and vendor perspective
X-ALT-DESC;FMTTYPE=text/html:Contracts\, Change Orders and Invoicing<br />\nNuts &amp\; bolts of a DFW contract\; Best practices\, Hear Airport staff and vendor perspective
LOCATION:
UID:e.1262.2829
SEQUENCE:3
DTSTAMP:20260422T104054Z
URL:https://business.fwmbcc.org/events/details/dfw-int-l-airport-presents-april-2016-training-classes-contracts-change-orders-invoicing-04-28-2016-2829
END:VEVENT

END:VCALENDAR
