BEGIN:VCALENDAR
VERSION:2.0
PRODID:-//ChamberMaster//Event Calendar 2.0//EN
METHOD:PUBLISH
X-PUBLISHED-TTL:P3D
REFRESH-INTERVAL:P3D
CALSCALE:GREGORIAN
BEGIN:VEVENT
DTSTART:20160414T143000Z
DTEND:20160414T163000Z
X-MICROSOFT-CDO-ALLDAYEVENT:FALSE
SUMMARY:DFW Int'l Airport presents April 2016 Training Classes
DESCRIPTION:Elevator Pitch & Capability Statement\n\nMarketing your business\n\nTips for perfecting your elevator pitch\n\nNetworking and opening the door at DFW
X-ALT-DESC;FMTTYPE=text/html:<strong>Elevator Pitch &amp\; Capability Statement<br />\nMarketing your business<br />\nTips for perfecting your elevator pitch<br />\nNetworking and opening the door at DFW</strong>
LOCATION:DFW Airport Headquarters Multi Purpose Room - 1b1002t 2400 Aviation Drive\, DFW Airport TX
UID:e.1262.2827
SEQUENCE:3
DTSTAMP:20260422T103952Z
URL:https://business.fwmbcc.org/events/details/dfw-int-l-airport-presents-april-2016-training-classes-04-14-2016-2827
END:VEVENT

END:VCALENDAR
