BEGIN:VCALENDAR
VERSION:2.0
PRODID:-//ChamberMaster//Event Calendar 2.0//EN
METHOD:PUBLISH
X-PUBLISHED-TTL:P3D
REFRESH-INTERVAL:P3D
CALSCALE:GREGORIAN
BEGIN:VEVENT
DTSTART:20160406T210000Z
DTEND:20160407T000000Z
X-MICROSOFT-CDO-ALLDAYEVENT:FALSE
SUMMARY:DFW Int'l Airport presents April 2016 Training Classes
DESCRIPTION:Bonding 101-\n\nBonds- how do they work?\n\nRequirements for DFW projects\n\nIncreasing bond capacity and lowering rates
X-ALT-DESC;FMTTYPE=text/html:<strong>Bonding 101-<br />\nBonds- how do they work?<br />\nRequirements for DFW projects<br />\nIncreasing bond capacity and lowering rates</strong>
LOCATION:Business Diversity and Development Department DFW Airport Headquarters Multi purpose Room 1b1002t 2400 Aviation Dr.\, DFW Airport TX
UID:e.1262.2826
SEQUENCE:3
DTSTAMP:20260422T091513Z
URL:https://business.fwmbcc.org/events/details/dfw-int-l-airport-presents-april-2016-training-classes-04-06-2016-2826
END:VEVENT

END:VCALENDAR
