BEGIN:VCALENDAR
VERSION:2.0
PRODID:-//ChamberMaster//Event Calendar 2.0//EN
METHOD:PUBLISH
X-PUBLISHED-TTL:P3D
REFRESH-INTERVAL:P3D
CALSCALE:GREGORIAN
BEGIN:VEVENT
DTSTART:20151207T180000Z
DTEND:20151207T233000Z
X-MICROSOFT-CDO-ALLDAYEVENT:FALSE
SUMMARY:DFW Int'l Airport Contractor Open House
DESCRIPTION:DFW International Airport hosting a Contractor Open House to provide an overview of upcoming solicitations focused on construction contracts.
X-ALT-DESC;FMTTYPE=text/html:DFW International Airport hosting a Contractor Open House to provide an overview of upcoming solicitations focused on construction contracts.
LOCATION:Hyatt Regency DFW Terminal C-Enterprise Ballroom(lower level) 2334 International Parkway\, DFW Airport\, TX 75261
UID:e.1262.2300
SEQUENCE:3
DTSTAMP:20260422T122009Z
URL:https://business.fwmbcc.org/events/details/dfw-int-l-airport-contractor-open-house-12-07-2015-2300
END:VEVENT

END:VCALENDAR
