BEGIN:VCALENDAR
VERSION:2.0
PRODID:-//ChamberMaster//Event Calendar 2.0//EN
METHOD:PUBLISH
X-PUBLISHED-TTL:P3D
REFRESH-INTERVAL:P3D
CALSCALE:GREGORIAN
BEGIN:VEVENT
DTSTART:20150917T203000Z
DTEND:20150917T233000Z
X-MICROSOFT-CDO-ALLDAYEVENT:FALSE
SUMMARY:DFW Int'l Airport Bond Claims & Dispute Resolution
DESCRIPTION:Bond claims and Dispute Resolution. Learn about mediation and other approaches for dispute resolution\, Protecting your bond from predators
X-ALT-DESC;FMTTYPE=text/html:Bond claims and Dispute Resolution. Learn about mediation and other approaches for dispute resolution\, Protecting your bond from predators
LOCATION:Willis Training Facility\, 8400 Esters Blvd\, Ste. 190\, Irving TX
UID:e.1262.2247
SEQUENCE:3
DTSTAMP:20260422T073703Z
URL:https://business.fwmbcc.org/events/details/dfw-int-l-airport-bond-claims-dispute-resolution-09-17-2015-2247
END:VEVENT

END:VCALENDAR
