BEGIN:VCALENDAR
VERSION:2.0
PRODID:-//ChamberMaster//Event Calendar 2.0//EN
METHOD:PUBLISH
X-PUBLISHED-TTL:P3D
REFRESH-INTERVAL:P3D
CALSCALE:GREGORIAN
BEGIN:VEVENT
DTSTART:20150926T150000Z
DTEND:20150926T220000Z
X-MICROSOFT-CDO-ALLDAYEVENT:FALSE
SUMMARY:Day in the District
DESCRIPTION:10th annual event offers free admission to 10 museums. Enjoy hands on activities and live performances by a few of the city's arts groups.
X-ALT-DESC;FMTTYPE=text/html:10th annual event offers free admission to 10 museums. Enjoy hands on activities and live performances by a few of the city&#39\;s arts groups.
LOCATION:Ten cultural destinations including the Kimbell Art Museum & Ft. Worth Museum of Science and History
UID:e.1262.2240
SEQUENCE:3
DTSTAMP:20260422T073405Z
URL:https://business.fwmbcc.org/events/details/day-in-the-district-09-26-2015-2240
END:VEVENT

END:VCALENDAR
