BEGIN:VCALENDAR
VERSION:2.0
PRODID:-//ChamberMaster//Event Calendar 2.0//EN
METHOD:PUBLISH
X-PUBLISHED-TTL:P3D
REFRESH-INTERVAL:P3D
CALSCALE:GREGORIAN
BEGIN:VEVENT
DTSTART:20160921T170000Z
DTEND:20160921T180000Z
X-MICROSOFT-CDO-ALLDAYEVENT:FALSE
SUMMARY:Day at MLCC with Edward Jones
DESCRIPTION:Edward Jones Interview with Ross Perez
X-ALT-DESC;FMTTYPE=text/html:<span style="color: rgb(34\, 34\, 34)\; font-family: arial\, sans-serif\; font-size: 12.8px\; line-height: normal\;">Edward Jones Interview with Ross Perez</span>
LOCATION:
UID:e.1262.2888
SEQUENCE:3
DTSTAMP:20260422T010018Z
URL:https://business.fwmbcc.org/events/details/day-at-mlcc-with-edward-jones-2888
END:VEVENT

END:VCALENDAR
