BEGIN:VCALENDAR
VERSION:2.0
PRODID:-//ChamberMaster//Event Calendar 2.0//EN
METHOD:PUBLISH
X-PUBLISHED-TTL:P3D
REFRESH-INTERVAL:P3D
CALSCALE:GREGORIAN
BEGIN:VEVENT
DTSTART:20150930T000000Z
DTEND:20150930T020000Z
X-MICROSOFT-CDO-ALLDAYEVENT:FALSE
SUMMARY:Darryl D Schmidt Lectureship on Religion i Public Life
DESCRIPTION:Jonathan L. Walton\, a prominent scholar of African-American religion\, noted author and respected minister is coming to Texas Christian University for the 2015 Daryl D. Schmidt Lectureship on Religion in Public Life. In his presentation "The Sun Do Move\," Rev. Dr. Walton will provide insightful commentary on ethical biblical interpretations in competing cultural contexts as well as an inside look at the connection among religion\, politics and the media.
X-ALT-DESC;FMTTYPE=text/html:Jonathan L. Walton\, a prominent scholar of African-American religion\, noted author and respected minister is coming to Texas Christian University for the 2015 Daryl D. Schmidt Lectureship on Religion in Public Life. In his presentation &quot\;The Sun Do Move\,&quot\; Rev. Dr. Walton will provide insightful commentary on ethical biblical interpretations in competing cultural contexts as well as an inside look at the connection among religion\, politics and the media.
LOCATION:Brown-Lupton University Union Ballroom at TCU
UID:e.1262.2265
SEQUENCE:3
DTSTAMP:20260422T091719Z
URL:https://business.fwmbcc.org/events/details/darryl-d-schmidt-lectureship-on-religion-i-public-life-09-29-2015-2265
END:VEVENT

END:VCALENDAR
