BEGIN:VCALENDAR
VERSION:2.0
PRODID:-//ChamberMaster//Event Calendar 2.0//EN
METHOD:PUBLISH
X-PUBLISHED-TTL:P3D
REFRESH-INTERVAL:P3D
CALSCALE:GREGORIAN
BEGIN:VEVENT
DTSTART:20180510T162500Z
DTEND:20180510T180000Z
X-MICROSOFT-CDO-ALLDAYEVENT:FALSE
SUMMARY:Creating Effective Social Media Campaigns that Work
DESCRIPTION:Keep your social media manageable and successful by fully understanding how to use it. Once we have established a comprehensive understanding of social media and the best ways to use it\, we will go over how to create a manageable and successful social media campaign.\n									\n\n									\n									\n									 \n\n									Topics covered include: \n\n									\n										Demographics of social media users\n										Differences between social media platforms\n										How to use social media as a business \n										Creating a manageable social media plan\n									\n\n									Lunch will be provided \n\n									 \n\n									Megan Brown graduated with a degree in marketing from the Neeley School of Business and the John V. Roach Honors College at Texas Christian University. Before starting MB Marketing\, she was the Vice President of Marketing and Business Development at SMH Capital Advisors. She enjoys the data side of digital marketing that gives insights into the marketing efforts she does on behalf of her clients. \n\n									MB Marketing is a full service digital marketing agency in Fort Worth that works with local businesses to help them find\, attract and retain customers by helping businesses get the right message in front of the right people at the right time.\n\n									 \n\n									 \n									\n									\n									\n								\n							\n						\n						\n					\n					\n						\n						\n							\n								\n									Get more information\n								\n								\n									Register Now!
X-ALT-DESC;FMTTYPE=text/html:<table border="0" cellpadding="0" cellspacing="0" class="m_-2118312058632833861m_-1882590256634175931RightColWidth" style="color: rgb(34\, 34\, 34)\; font-family: arial\, sans-serif\; font-size: 12.8px\; background-color: rgb(255\, 255\, 255)\; width: 385px\;" width="385">\n	<tbody>\n		<tr>\n			<td align="left" colspan="1" rowspan="1" style="margin: 0px\;" valign="top" width="100%">\n			<table border="0" cellpadding="5" cellspacing="0" class="m_-2118312058632833861m_-1882590256634175931BlockMargin" style="margin-bottom: 5px\;" width="100%">\n				<tbody>\n					<tr>\n						<td align="left" class="m_-2118312058632833861m_-1882590256634175931LeftColPad" colspan="1" rowspan="1" style="margin: 0px\; padding: 0px\;" valign="top" width="100%">\n						<table border="0" cellpadding="5" cellspacing="0" class="m_-2118312058632833861m_-1882590256634175931BlockMargin" id="m_-2118312058632833861m_-1882590256634175931content_LETTER.BLOCK5" style="margin-bottom: 5px\;" width="100%">\n							<tbody>\n								<tr>\n									<td align="left" class="m_-2118312058632833861m_-1882590256634175931MainText" colspan="1" id="m_-2118312058632833861m_-1882590256634175931evm-content-maintext" rowspan="1" style="font-family: Arial\, Helvetica\, sans-serif\; margin: 0px\; color: rgb(51\, 51\, 51)\; font-size: 10pt\;">\n									<div class="m_-2118312058632833861m_-1882590256634175931cc-block" id="m_-2118312058632833861m_-1882590256634175931cc-block1" style="padding: 0px\; margin: 0px 0px 18px\; overflow: hidden\; font-size: 12pt\;">\n									<h1 class="m_-2118312058632833861m_-1882590256634175931text--display3" style="padding: 0px\; margin: 0px\; color: rgb(110\, 148\, 158)\; letter-spacing: -1px\;">&nbsp\;</h1>\n\n									<div align="left" style="line-height: 45pt\; margin-bottom: 0.0001pt\;"><span style="color: rgb(51\, 51\, 51)\; letter-spacing: 0.4pt\; font-size: 14pt\; font-family: &quot\;Calibri Light&quot\;\, sans-serif\;">Keep your social media manageable and successful by fully understanding how to use it. Once we have established a comprehensive understanding of social media and the best ways to use it\, we will go over how to create a manageable and successful social media campaign.</span></div>\n									</div>\n\n									<div class="m_-2118312058632833861m_-1882590256634175931cc-block" id="m_-2118312058632833861m_-1882590256634175931cc-block2" style="padding: 0px\; margin: 0px 0px 18px\; overflow: hidden\; font-size: 12px\;">\n									<div align="center" style="padding: 0px\; margin: 0px\;">\n									<div align="left" style="text-align: left\;">&nbsp\;</div>\n\n									<div align="left" style="line-height: normal\; margin-bottom: 0.0001pt\; text-align: left\;"><span style="font-size: 14pt\;"><span style="background-image: initial\; background-position: initial\; background-size: initial\; background-repeat: initial\; background-attachment: initial\; background-origin: initial\; background-clip: initial\; letter-spacing: 0.4pt\; font-size: 14pt\; font-family: &quot\;Calibri Light&quot\;\, sans-serif\;">Topics covered include:&nbsp\;</span></span></div>\n\n									<ul align="left" style="text-align: left\;">\n										<li style="margin-left: 15px\;"><span style="font-size: 14pt\;"><span style="letter-spacing: 0.4pt\; font-size: 14pt\; font-family: &quot\;Calibri Light&quot\;\, sans-serif\;">Demographics of social media users</span></span></li>\n										<li style="margin-left: 15px\;"><span style="font-size: 14pt\;"><span style="letter-spacing: 0.4pt\; font-size: 14pt\; font-family: &quot\;Calibri Light&quot\;\, sans-serif\;">Differences between social media platforms</span></span></li>\n										<li style="margin-left: 15px\;"><span style="font-size: 14pt\;"><span style="letter-spacing: 0.4pt\; font-size: 14pt\; font-family: &quot\;Calibri Light&quot\;\, sans-serif\;">How to use social media as a business&nbsp\;</span></span></li>\n										<li style="margin-left: 15px\;"><span style="font-size: 14pt\;"><span style="letter-spacing: 0.4pt\; font-size: 14pt\; font-family: &quot\;Calibri Light&quot\;\, sans-serif\;">Creating a manageable social media plan</span></span></li>\n									</ul>\n\n									<div align="left" style="line-height: normal\; text-align: left\;"><span style="font-size: 14pt\;"><span style="letter-spacing: 0.4pt\; font-size: 14pt\; font-family: &quot\;Calibri Light&quot\;\, sans-serif\;"><span style="color: rgb(38\, 40\, 42)\; font-size: 13px\; font-family: &quot\;Helvetica Neue&quot\;\, Helvetica\, Arial\, sans-serif\;">Lunch will be provided</span>&nbsp\;</span></span></div>\n\n									<div align="left" style="line-height: normal\; text-align: left\;">&nbsp\;</div>\n\n									<div align="left" style="line-height: normal\; text-align: left\;"><span style="font-size: 14pt\;"><span style="font-size: 14pt\; font-family: &quot\;Calibri Light&quot\;\, sans-serif\;">Megan</span><span style="font-size: 14pt\; font-family: &quot\;Calibri Light&quot\;\, sans-serif\;">&nbsp\;Brown graduated with a degree in marketing from the Neeley School of Business and the John V. Roach Honors College at Texas Christian University. Before starting MB Marketing\, she was the Vice President of Marketing and Business Development at SMH Capital Advisors. She enjoys the data side of digital marketing that gives insights into the marketing efforts she does on behalf of her clients.&nbsp\;</span></span></div>\n\n									<div align="left" style="text-align: left\;"><span style="font-size: 14pt\;"><span style="background-image: initial\; background-position: initial\; background-size: initial\; background-repeat: initial\; background-attachment: initial\; background-origin: initial\; background-clip: initial\; letter-spacing: 0.4pt\; font-size: 14pt\; line-height: 19.9733px\; font-family: &quot\;Calibri Light&quot\;\, sans-serif\;">MB Marketing is a&nbsp\;full service digital marketing agency in Fort Worth that works with local businesses to help them find\, attract and retain customers by helping businesses get the right message in front of the right people at the right time.</span></span></div>\n\n									<div dir="ltr" style="margin-left: 0px\; padding: 0px\; margin-bottom: 18px\; margin-right: 0px\; text-align: left\;">&nbsp\;</div>\n\n									<div dir="ltr" style="margin-left: 0px\; padding: 0px\; margin-bottom: 18px\; margin-right: 0px\; text-align: left\;">&nbsp\;</div>\n									</div>\n									</div>\n									</td>\n								</tr>\n							</tbody>\n						</table>\n						</td>\n					</tr>\n					<tr>\n						<td align="left" colspan="1" rowspan="1" style="margin: 0px\;" valign="top" width="100%">\n						<table border="0" cellpadding="5" cellspacing="0" class="m_-2118312058632833861m_-1882590256634175931BlockMargin" style="margin-bottom: 5px\;" width="100%">\n							<tbody>\n								<tr>\n									<td align="center" class="m_-2118312058632833861m_-1882590256634175931cc-register m_-2118312058632833861m_-1882590256634175931cc-link-sm" colspan="1" rowspan="1" style="font-family: Arial\, Helvetica\, sans-serif\; margin: 0px\; color: rgb(51\, 51\, 51)\; font-size: 12pt\;"><a class="m_-2118312058632833861m_-1882590256634175931cc-register m_-2118312058632833861m_-1882590256634175931cc-link-sm" data-saferedirecturl="https://www.google.com/url?hl=en&amp\;q=http://events.r20.constantcontact.com/register/event?oeidk%3Da07ef85mcyec84531a1%26c%3D6f5d43b0-93e0-11e7-a5d6-d4ae52806905%26ch%3D6f8e65d0-93e0-11e7-a5d6-d4ae52806905&amp\;source=gmail&amp\;ust=1524672458855000&amp\;usg=AFQjCNFTQ5J6-I9n8fa57vQ2S74VoRXE5Q" href="http://events.r20.constantcontact.com/register/event?oeidk=a07ef85mcyec84531a1&amp\;c=6f5d43b0-93e0-11e7-a5d6-d4ae52806905&amp\;ch=6f8e65d0-93e0-11e7-a5d6-d4ae52806905" id="m_-2118312058632833861m_-1882590256634175931lnkMoreInfo" shape="rect" style="color: rgb(51\, 51\, 51)\; font-size: 12pt\;" target="_blank" title="Get more information">Get more information</a></td>\n								</tr>\n								<tr>\n									<td align="center" class="m_-2118312058632833861m_-1882590256634175931cc-register" colspan="1" rowspan="1" style="font-family: Arial\, Helvetica\, sans-serif\; margin: 0px\; color: rgb(51\, 51\, 51)\; font-size: 14pt\;"><b><a class="m_-2118312058632833861m_-1882590256634175931cc-register" data-saferedirecturl="https://www.google.com/url?hl=en&amp\;q=http://events.r20.constantcontact.com/register/regform?oeidk%3Da07ef85mcyec84531a1%26c%3D6f5d43b0-93e0-11e7-a5d6-d4ae52806905%26ch%3D6f8e65d0-93e0-11e7-a5d6-d4ae52806905&amp\;source=gmail&amp\;ust=1524672458855000&amp\;usg=AFQjCNGvs1QpdF14ISB0efWBrrcxQxqVAQ" href="http://events.r20.constantcontact.com/register/regform?oeidk=a07ef85mcyec84531a1&amp\;c=6f5d43b0-93e0-11e7-a5d6-d4ae52806905&amp\;ch=6f8e65d0-93e0-11e7-a5d6-d4ae52806905" id="m_-2118312058632833861m_-1882590256634175931lnkRegister" shape="rect" style="color: rgb(51\, 51\, 51)\; font-size: 14pt\;" target="_blank" title="Register Now!">Register Now!</a></b></td>\n								</tr>\n								<tr>\n								</tr>\n							</tbody>\n						</table>\n						</td>\n					</tr>\n				</tbody>\n			</table>\n			</td>\n		</tr>\n	</tbody>\n</table>\n
LOCATION:SCORE Conference Room 1150 South Freeway Fort Worth\, Texas 76104
UID:e.1262.4100
SEQUENCE:3
DTSTAMP:20260422T054732Z
URL:https://business.fwmbcc.org/events/details/creating-effective-social-media-campaigns-that-work-4100
END:VEVENT

END:VCALENDAR
