BEGIN:VCALENDAR
VERSION:2.0
PRODID:-//ChamberMaster//Event Calendar 2.0//EN
METHOD:PUBLISH
X-PUBLISHED-TTL:P3D
REFRESH-INTERVAL:P3D
CALSCALE:GREGORIAN
BEGIN:VEVENT
DTSTART:20151109T150000Z
DTEND:20151109T180000Z
X-MICROSOFT-CDO-ALLDAYEVENT:FALSE
SUMMARY:Cooperative Inclusion Plan or Contractors in Heavy Highway Construction
DESCRIPTION:Topics: How to Successfully Complete a Project for TXDot and How to Give Your Credit a Face-Lift
X-ALT-DESC;FMTTYPE=text/html:Topics: How to Successfully Complete a Project for TXDot and How to Give Your Credit a Face-Lift
LOCATION:TXDot Dallas-Dal Trans Bldg.\, Rooms Arnold Oliver/Robert Yielding-4625 E. Hwy. 80\, Mesquite TX 75150
UID:e.1262.2296
SEQUENCE:3
DTSTAMP:20260422T104605Z
URL:https://business.fwmbcc.org/events/details/cooperative-inclusion-plan-or-contractors-in-heavy-highway-construction-11-09-2015-2296
END:VEVENT

END:VCALENDAR
