BEGIN:VCALENDAR
VERSION:2.0
PRODID:-//ChamberMaster//Event Calendar 2.0//EN
METHOD:PUBLISH
X-PUBLISHED-TTL:P3D
REFRESH-INTERVAL:P3D
CALSCALE:GREGORIAN
BEGIN:VEVENT
DTSTART:20180315T163000Z
DTEND:20180315T183000Z
X-MICROSOFT-CDO-ALLDAYEVENT:FALSE
SUMMARY:Control Yourself! Understanding Internal Control's Role in Your Business
DESCRIPTION:Want to know how to reduce the risk of missing or inaccurate inventory\, theft\, embezzlement\, or "funny financials"?  If you answered "yes"\, then this workshop is for you.  Effective controls reduce the risk of asset loss and help ensure that business information is complete and accurate\, financial statements are reliable\, and that your business complies with laws and regulations.  The goal of this workshop is to define and explain the role of internal controls - often overlooked "back office" item.  This workshop provides a basic overview of internal control procedures.  No accounting knowledge required! \n\n						 \n\n						With over 20 years of accounting and auditing experience\, Shelia Cook has seen many business operations\, inside and out!  The good - segregation of duties.  The bad - hand penciled accounting entries.  The ugly - unsecured blank checks.  She has worked in Fortune 500 companies and small non-profits.  She knows the importance of internal controls\, no matter company size.  \n						\n						\n						\n						\n						\n					\n				\n			\n			\n		\n		\n			\n			\n				\n					\n						Get more information\n					\n					\n						Register Now!
X-ALT-DESC;FMTTYPE=text/html:<table border="0" cellpadding="0" cellspacing="0" class="m_8190524233460249263m_-6160143004999986250RightColWidth" style="color: rgb(34\, 34\, 34)\; font-family: arial\, sans-serif\; font-size: 12.8px\; background-color: rgb(255\, 255\, 255)\; width: 385px\;" width="385">\n	<tbody>\n		<tr>\n			<td align="left" class="m_8190524233460249263m_-6160143004999986250LeftColPad" colspan="1" rowspan="1" style="margin: 0px\; padding: 0px\;" valign="top" width="100%">\n			<table border="0" cellpadding="5" cellspacing="0" class="m_8190524233460249263m_-6160143004999986250BlockMargin" id="m_8190524233460249263m_-6160143004999986250content_LETTER.BLOCK5" style="margin-bottom: 5px\;" width="100%">\n				<tbody>\n					<tr>\n						<td align="left" class="m_8190524233460249263m_-6160143004999986250MainText" colspan="1" id="m_8190524233460249263m_-6160143004999986250evm-content-maintext" rowspan="1" style="font-family: Arial\, Helvetica\, sans-serif\; margin: 0px\; color: rgb(51\, 51\, 51)\; font-size: 10pt\;">\n						<div>\n						<div>\n						<div class="m_8190524233460249263m_-6160143004999986250pageli" style="color: rgb(255\, 0\, 0)\; font-size: 14pt\;">\n						<div style="color: rgb(0\, 0\, 0)\;">\n						<div><span style="font-size: 12pt\; line-height: 18.4px\;"><span style="color: rgb(38\, 40\, 42)\; font-family: Calibri\, sans-serif\;">Want to know how to reduce the risk of missing or inaccurate inventory\, theft\, embezzlement\, or &quot\;funny financials&quot\;?&nbsp\; If you answered &quot\;yes&quot\;\, then this workshop is for you.&nbsp\; Effective&nbsp\;</span><b style="color: rgb(38\, 40\, 42)\; font-family: Calibri\, sans-serif\;">controls</b><span style="color: rgb(38\, 40\, 42)\; font-family: Calibri\, sans-serif\;">&nbsp\;reduce the risk of asset loss and help ensure that business information is complete and accurate\, financial statements are reliable\, and that your business complies with laws and regulations.&nbsp\; The goal of this workshop is to define and explain the role of internal controls - often overlooked &quot\;back office&quot\; item.&nbsp\; This workshop provides a basic overview of internal control procedures.&nbsp\; No accounting knowledge required!&nbsp\;</span></span></div>\n\n						<div>&nbsp\;</div>\n\n						<div><span style="font-size: 12pt\; line-height: 18.4px\;"><span style="color: rgb(38\, 40\, 42)\; font-family: Calibri\, sans-serif\;">With over 20 years of accounting and auditing experience\, Shelia Cook has seen many business operations\, inside and out!&nbsp\; The good - segregation of duties.&nbsp\; The bad - hand penciled accounting entries.&nbsp\; The ugly - unsecured blank checks.&nbsp\; She has worked in Fortune 500 companies and small non-profits.&nbsp\; She knows the importance of internal controls\, no matter company size.&nbsp\;&nbsp\;</span></span></div>\n						</div>\n						</div>\n						</div>\n						</div>\n						</td>\n					</tr>\n				</tbody>\n			</table>\n			</td>\n		</tr>\n		<tr>\n			<td align="left" colspan="1" rowspan="1" style="margin: 0px\;" valign="top" width="100%">\n			<table border="0" cellpadding="5" cellspacing="0" class="m_8190524233460249263m_-6160143004999986250BlockMargin" style="margin-bottom: 5px\;" width="100%">\n				<tbody>\n					<tr>\n						<td align="center" class="m_8190524233460249263m_-6160143004999986250cc-register m_8190524233460249263m_-6160143004999986250cc-link-sm" colspan="1" rowspan="1" style="font-family: Arial\, Helvetica\, sans-serif\; margin: 0px\; color: rgb(51\, 51\, 51)\; font-size: 12pt\;"><a class="m_8190524233460249263m_-6160143004999986250cc-register m_8190524233460249263m_-6160143004999986250cc-link-sm" data-saferedirecturl="https://www.google.com/url?hl=en&amp\;q=http://events.r20.constantcontact.com/register/event?oeidk%3Da07ef1egpzeb07f993f%26c%3D6f5d43b0-93e0-11e7-a5d6-d4ae52806905%26ch%3D6f8e65d0-93e0-11e7-a5d6-d4ae52806905&amp\;source=gmail&amp\;ust=1519243213663000&amp\;usg=AFQjCNHfr73DlME1MW7fZUYsHqdH4RUR6g" href="http://events.r20.constantcontact.com/register/event?oeidk=a07ef1egpzeb07f993f&amp\;c=6f5d43b0-93e0-11e7-a5d6-d4ae52806905&amp\;ch=6f8e65d0-93e0-11e7-a5d6-d4ae52806905" id="m_8190524233460249263m_-6160143004999986250lnkMoreInfo" shape="rect" style="color: rgb(51\, 51\, 51)\; font-size: 12pt\;" target="_blank" title="Get more information">Get more information</a></td>\n					</tr>\n					<tr>\n						<td align="center" class="m_8190524233460249263m_-6160143004999986250cc-register" colspan="1" rowspan="1" style="font-family: Arial\, Helvetica\, sans-serif\; margin: 0px\; color: rgb(51\, 51\, 51)\; font-size: 14pt\;"><b><a class="m_8190524233460249263m_-6160143004999986250cc-register" data-saferedirecturl="https://www.google.com/url?hl=en&amp\;q=http://events.r20.constantcontact.com/register/regform?oeidk%3Da07ef1egpzeb07f993f%26c%3D6f5d43b0-93e0-11e7-a5d6-d4ae52806905%26ch%3D6f8e65d0-93e0-11e7-a5d6-d4ae52806905&amp\;source=gmail&amp\;ust=1519243213669000&amp\;usg=AFQjCNGxtMJG6he2mSZ3NBPwZ4YmhAqP0A" href="http://events.r20.constantcontact.com/register/regform?oeidk=a07ef1egpzeb07f993f&amp\;c=6f5d43b0-93e0-11e7-a5d6-d4ae52806905&amp\;ch=6f8e65d0-93e0-11e7-a5d6-d4ae52806905" id="m_8190524233460249263m_-6160143004999986250lnkRegister" shape="rect" style="color: rgb(51\, 51\, 51)\; font-size: 14pt\;" target="_blank" title="Register Now!">Register Now!</a></b></td>\n					</tr>\n				</tbody>\n			</table>\n			</td>\n		</tr>\n	</tbody>\n</table>\n
LOCATION:SCORE Conference Room 1150 South Freeway\, Suite 108 Fort Worth\, Texas 76104
UID:e.1262.3083
SEQUENCE:3
DTSTAMP:20260422T023427Z
URL:https://business.fwmbcc.org/events/details/control-yourself-understanding-internal-control-s-role-in-your-business-3083
END:VEVENT

END:VCALENDAR
