BEGIN:VCALENDAR
VERSION:2.0
PRODID:-//ChamberMaster//Event Calendar 2.0//EN
METHOD:PUBLISH
X-PUBLISHED-TTL:P3D
REFRESH-INTERVAL:P3D
CALSCALE:GREGORIAN
BEGIN:VEVENT
DTSTART:20180322T230000Z
DTEND:20180323T003000Z
X-MICROSOFT-CDO-ALLDAYEVENT:FALSE
SUMMARY:Contractor Talk: Contract Review\, Dispute Resolution & Project Closeout
DESCRIPTION:Construction law attorney\, Cara Kennemer of Underwood Law Firm\, will be offering her time to speak about dispute resolution\, project closeout and contract review from a sub-contractor perspective.
X-ALT-DESC;FMTTYPE=text/html:Construction&nbsp\;law attorney\,&nbsp\;<span style="color: rgb(51\, 51\, 51)\; font-family: sans-serif\, Arial\, Verdana\, &quot\;Trebuchet MS&quot\;\; font-size: 13px\; background-color: rgb(255\, 255\, 255)\;">Cara</span><span style="color: rgb(51\, 51\, 51)\; font-family: sans-serif\, Arial\, Verdana\, &quot\;Trebuchet MS&quot\;\; font-size: 13px\; background-color: rgb(255\, 255\, 255)\;">&nbsp\;</span>Kennemer of Underwood Law Firm\, will be offering her time to speak about dispute resolution\, project closeout and contract review from a sub-contractor perspective.&nbsp\;
LOCATION:Guinn Complex Small Conference Room 1150 South Freeway Fort Worth\, TX 76104
UID:e.1262.3090
SEQUENCE:3
DTSTAMP:20260422T023406Z
URL:https://business.fwmbcc.org/events/details/contractor-talk-contract-review-dispute-resolution-project-closeout-3090
END:VEVENT

END:VCALENDAR
