BEGIN:VCALENDAR
VERSION:2.0
PRODID:-//ChamberMaster//Event Calendar 2.0//EN
METHOD:PUBLISH
X-PUBLISHED-TTL:P3D
REFRESH-INTERVAL:P3D
CALSCALE:GREGORIAN
BEGIN:VEVENT
DTSTART:20161209T000000Z
DTEND:20161209T020000Z
X-MICROSOFT-CDO-ALLDAYEVENT:FALSE
SUMMARY:Computer Crimes Presentation
DESCRIPTION:Computer Crimes class taught by expert attorneys from the Tarrant County Criminal District Attorney's "Speakers on the Road" program.
X-ALT-DESC;FMTTYPE=text/html:<strong>Computer Crimes class taught by expert attorneys from the Tarrant County Criminal District Attorney&#39\;s &quot\;Speakers on the Road&quot\; program.</strong>
LOCATION:Business Assistance Center\, 1150 S. Freeway\, Pharma Fab Conference Room\, Ft. Worth TX
UID:e.1262.2738
SEQUENCE:3
DTSTAMP:20260421T203613Z
URL:https://business.fwmbcc.org/events/details/computer-crimes-presentation-12-08-2016-2738
END:VEVENT

END:VCALENDAR
