BEGIN:VCALENDAR
VERSION:2.0
PRODID:-//ChamberMaster//Event Calendar 2.0//EN
METHOD:PUBLISH
X-PUBLISHED-TTL:P3D
REFRESH-INTERVAL:P3D
CALSCALE:GREGORIAN
BEGIN:VEVENT
DTSTART:20160505T150000Z
DTEND:20160505T180000Z
X-MICROSOFT-CDO-ALLDAYEVENT:FALSE
SUMMARY:Community Employment Fair
DESCRIPTION:Fort Worth Housing Solutions (formerly the Fort Worth Housing Authority)\, along with the Historic Stop Six Initiative\, and the Brighter Outlook Community Center\, will host a "Community Employment Fair"\, Thursday\, May 5\, 2016\, from 10:00 am until 1:00 pm\, at the Brighter Outlook Community Center 4910 Dunbar St. Fort Worth\, TX 76105. We will have over forty companies participating.\n\n\n\nPlease help us spread the word regarding this tremendous community event and effort.\n\n \n\nIf you need additional information\, please contact me at (817) 333-3523\, (817) 938-4913\, Gnixon@fwhs.org\, fax (817) 877-3264\, or at PO Box 430\, Fort Worth\, Texas 76101.
X-ALT-DESC;FMTTYPE=text/html:<span style="font-size:14px\;"><span style="font-family:times new roman\;">Fort Worth Housing Solutions (formerly the Fort Worth Housing Authority)\, along with the Historic Stop Six Initiative\, and the Brighter Outlook Community Center\, will host a &ldquo\;Community Employment Fair&rdquo\;\,&nbsp\;<strong><span data-term="goog_1563096972" style="border-bottom-width:1px\;border-bottom-style:dashed\;position:relative\;top:-2px\;z-index:0\;" tabindex="0"><span style="position:relative\;top:2px\;z-index:-1\;">Thursday\, May 5\, 2016</span></span>\, from&nbsp\;<span data-term="goog_1563096973" style="border-bottom-width:1px\;border-bottom-style:dashed\;position:relative\;top:-2px\;z-index:0\;" tabindex="0"><span style="position:relative\;top:2px\;z-index:-1\;">10:00 am&nbsp\;</span></span></strong></span></span><span style="font-size:14px\;"><span style="font-family:times new roman\;"><strong>until&nbsp\;<span data-term="goog_1563096974" style="border-bottom-width:1px\;border-bottom-style:dashed\;position:relative\;top:-2px\;z-index:0\;" tabindex="0"><span style="position:relative\;top:2px\;z-index:-1\;">1:00 pm</span></span>\, at the Brighter Outlook Community Center 4910 Dunbar St. Fort Worth\, TX 76105. </strong>We will have over forty companies participating.<br />\n<br />\nPlease help us spread the word regarding this tremendous community event and effort.<br />\n&nbsp\;<br />\nIf you need additional information\, please contact me at&nbsp\;<a href="tel:%28817%29%20333-3523" style="color:rgb(17\, 85\, 204)\;" target="_blank" value="+18173333523">(817) 333-3523</a>\,&nbsp\;<a href="tel:%28817%29%20938-4913" style="color:rgb(17\, 85\, 204)\;" target="_blank" value="+18179384913">(817) 938-4913</a>\,&nbsp\;<a href="mailto:Gnixon@fwhs.org" style="color:rgb(17\, 85\, 204)\;" target="_blank">Gnixon@fwhs.org</a>\, fax&nbsp\;<a href="tel:%28817%29%20877-3264" style="color:rgb(17\, 85\, 204)\;" target="_blank" value="+18178773264">(817) 877-3264</a>\, or at PO Box 430\, Fort Worth\, Texas 76101.</span></span>
LOCATION:Brighter Outlook Community Center 4910 Dunbar St. Fort Worth\, TX 76105
UID:e.1262.2854
SEQUENCE:3
DTSTAMP:20260422T073411Z
URL:https://business.fwmbcc.org/events/details/community-employment-fair-05-05-2016-2854
END:VEVENT

END:VCALENDAR
