BEGIN:VCALENDAR
VERSION:2.0
PRODID:-//ChamberMaster//Event Calendar 2.0//EN
METHOD:PUBLISH
X-PUBLISHED-TTL:P3D
REFRESH-INTERVAL:P3D
CALSCALE:GREGORIAN
BEGIN:VEVENT
DTSTART:20190926T133000Z
DTEND:20190926T163000Z
X-MICROSOFT-CDO-ALLDAYEVENT:FALSE
SUMMARY:City of Fort Worth Workshops: RFP\, RFQ\, ITB\, A+B & Best Value Solicitations
DESCRIPTION:Registration starts: 8:00 AM\n\nWorkshop Start Time: 8:30 AM - 11:30 AM\n\nLocation: James E. Guinn Entrepreneurial Campus - Fort Worth Business Assistance Center\, 1150 S. Freeway\, Fort Worth\n\nThis workshop will be taught by the "insiders"   City Project Managers. The workshop will provide an opportunity for Minority Businesses to meet the project managers who can answer any questions regarding the City's procurement and bidding processes. In this training session\, you will learn how to prepare effective bids and proposals for the City of Fort Worth\, and how to interpret language for special provisions and required documentation.\n\nRegistration Fee - $15.00\n\nPay At Door Fee - $20.00 (Cash Only)
X-ALT-DESC;FMTTYPE=text/html:<p style="margin: 0px\; padding: 0px\; color: rgb(111\, 114\, 135)\; font-family: &quot\;Neue Plak&quot\;\, -apple-system\, BlinkMacSystemFont\, Roboto\, &quot\;Helvetica Neue&quot\;\, Helvetica\, Tahoma\, Arial\, sans-serif\; font-size: 14.9333px\; letter-spacing: 0.5px\; background-color: rgb(255\, 255\, 255)\;"><br />\n<br />\nRegistration starts: 8:00 AM</p>\n\n<p style="margin: 0px\; padding: 10px 0px 0px\; color: rgb(111\, 114\, 135)\; font-family: &quot\;Neue Plak&quot\;\, -apple-system\, BlinkMacSystemFont\, Roboto\, &quot\;Helvetica Neue&quot\;\, Helvetica\, Tahoma\, Arial\, sans-serif\; font-size: 14.9333px\; letter-spacing: 0.5px\; background-color: rgb(255\, 255\, 255)\;">Workshop Start Time: 8:30 AM - 11:30 AM</p>\n\n<p style="margin: 0px\; padding: 10px 0px 0px\; color: rgb(111\, 114\, 135)\; font-family: &quot\;Neue Plak&quot\;\, -apple-system\, BlinkMacSystemFont\, Roboto\, &quot\;Helvetica Neue&quot\;\, Helvetica\, Tahoma\, Arial\, sans-serif\; font-size: 14.9333px\; letter-spacing: 0.5px\; background-color: rgb(255\, 255\, 255)\;">Location:&nbsp\;<span style="padding-top: 0px\;">James E. Guinn Entrepreneurial Campus -</span>&nbsp\;Fort Worth Business Assistance Center\, 1150 S. Freeway\, Fort Worth</p>\n\n<p style="margin: 0px\; padding: 10px 0px 0px\; color: rgb(111\, 114\, 135)\; font-family: &quot\;Neue Plak&quot\;\, -apple-system\, BlinkMacSystemFont\, Roboto\, &quot\;Helvetica Neue&quot\;\, Helvetica\, Tahoma\, Arial\, sans-serif\; font-size: 14.9333px\; letter-spacing: 0.5px\; background-color: rgb(255\, 255\, 255)\;">This workshop will be taught by the &quot\;insiders&quot\; &mdash\; City Project Managers. The workshop will provide an opportunity for Minority Businesses to meet the project managers who can answer any questions regarding the City&#39\;s procurement and bidding processes. In this training session\, you will learn how to prepare effective bids and proposals for the City of Fort Worth\, and how to interpret language for special provisions and required documentation.</p>\n\n<p style="margin: 0px\; padding: 10px 0px 0px\; color: rgb(111\, 114\, 135)\; font-family: &quot\;Neue Plak&quot\;\, -apple-system\, BlinkMacSystemFont\, Roboto\, &quot\;Helvetica Neue&quot\;\, Helvetica\, Tahoma\, Arial\, sans-serif\; font-size: 14.9333px\; letter-spacing: 0.5px\; background-color: rgb(255\, 255\, 255)\;"><span style="font-weight: 700\; padding-top: 0px\;">Registration Fee</span>&nbsp\;-&nbsp\;$15.00</p>\n\n<p style="margin: 0px\; padding: 10px 0px 0px\; color: rgb(111\, 114\, 135)\; font-family: &quot\;Neue Plak&quot\;\, -apple-system\, BlinkMacSystemFont\, Roboto\, &quot\;Helvetica Neue&quot\;\, Helvetica\, Tahoma\, Arial\, sans-serif\; font-size: 14.9333px\; letter-spacing: 0.5px\; background-color: rgb(255\, 255\, 255)\;"><span style="font-weight: 700\; padding-top: 0px\;">Pay At Door Fee</span>&nbsp\;- $20.00 (Cash Only)</p>\n
LOCATION:City of Fort Worth Business Assistance Center 1150 South Freeway Fort Worth\, Texas 76104
UID:e.1262.4180
SEQUENCE:3
DTSTAMP:20260424T171141Z
URL:https://business.fwmbcc.org/events/details/city-of-fort-worth-workshops-rfp-rfq-itb-a-b-best-value-solicitations-4180
END:VEVENT

END:VCALENDAR
