BEGIN:VCALENDAR
VERSION:2.0
PRODID:-//ChamberMaster//Event Calendar 2.0//EN
METHOD:PUBLISH
X-PUBLISHED-TTL:P3D
REFRESH-INTERVAL:P3D
CALSCALE:GREGORIAN
BEGIN:VEVENT
DTSTART:20180315T133000Z
DTEND:20180315T163000Z
X-MICROSOFT-CDO-ALLDAYEVENT:FALSE
SUMMARY:City of Fort Worth\, Office of Business Diversity: RFP\, RFQ\, ITB\, A & B\, and Best Value Solicitations Workshop
DESCRIPTION:Are you a minority or a woman business owner? You can't quite figure out how to get in the door? Maybe you are looking to diversity your business? At the City of Fort Worth\, the size of your business does not always matter!\n\n\n\nThe City of Fort Worth's Monthly Informational Forums targets minority and women contractors. These forums will serve two purposes\; 1) to ensure that firms are aware of opportunities to bid on City projects and 2) to identify gaps in experience\, training\, and capabilities that we can attempt to address early on.\n\n\n\nThe Office of Business Diversity is here to help diverse businesses gain access to the direct contracting and sub-contracting opportunities offered by city procurement in compliance with the City Council-approved Business Diversity Enterprise (BDE) Ordinance No. 20020-12-2011. Let's talk!
X-ALT-DESC;FMTTYPE=text/html:<span style="color:black\;"><span style="font-family:times new roman\,serif\;"><span style="font-size:12.0pt\;">Are you a minority or a woman business owner? You can&rsquo\;t quite figure out how to get in the door? Maybe you are looking to diversity your business? At the City of Fort Worth\, the size of your business does not always matter!</span></span></span><br />\n<br />\n<span style="color:black\;"><span style="font-family:times new roman\,serif\;"><span style="font-size:12.0pt\;">The City of Fort Worth&#39\;s Monthly Informational Forums targets minority and women contractors. These forums will serve two purposes\; 1) to ensure that firms are aware of opportunities to bid on City projects and 2) to identify gaps in experience\, training\, and capabilities that we can attempt to address early on.</span></span></span><br />\n<br />\n<span style="color:black\;"><span style="font-family:times new roman\,serif\;"><span style="font-size:12.0pt\;">The Office of Business Diversity is here to help diverse businesses gain access to the direct contracting and sub-contracting opportunities offered by city procurement in compliance with the City Council-approved Business Diversity Enterprise (BDE) Ordinance No. 20020-12-2011. Let&#39\;s talk! </span></span></span>
LOCATION:Guinn Complex 1150 South Fwy Fort Worth\, TX 76104
UID:e.1262.3085
SEQUENCE:3
DTSTAMP:20260422T023631Z
URL:https://business.fwmbcc.org/events/details/city-of-fort-worth-office-of-business-diversity-rfp-rfq-itb-a-b-and-best-value-solicitations-workshop-3085
END:VEVENT

END:VCALENDAR
