BEGIN:VCALENDAR
VERSION:2.0
PRODID:-//ChamberMaster//Event Calendar 2.0//EN
METHOD:PUBLISH
X-PUBLISHED-TTL:P3D
REFRESH-INTERVAL:P3D
CALSCALE:GREGORIAN
BEGIN:VEVENT
DTSTART:20160909T160000Z
DTEND:20160909T170000Z
X-MICROSOFT-CDO-ALLDAYEVENT:FALSE
SUMMARY:City of Arlington & AISD Monthly Supplier Meeting
DESCRIPTION:Purchasing staff from both agencies will be available to meet with new vendors\, hand out registration instructions\, and provide current contract lists. If not currently registered as a supplier or vendor\, stop by during one of the events during this year.
X-ALT-DESC;FMTTYPE=text/html:Purchasing staff from both agencies will be available to meet with new vendors\, hand out registration instructions\, and provide current contract lists. If not currently registered as a supplier or vendor\, stop by during one of the events during this year.
LOCATION:Parks & Recreation Admin. Building\, Parks Board Room\, 717 W. Main St.\, Arlington Tx
UID:e.1262.2531
SEQUENCE:3
DTSTAMP:20260422T010331Z
URL:https://business.fwmbcc.org/events/details/city-of-arlington-aisd-monthly-supplier-meeting-09-09-2016-2531
END:VEVENT

END:VCALENDAR
