BEGIN:VCALENDAR
VERSION:2.0
PRODID:-//ChamberMaster//Event Calendar 2.0//EN
METHOD:PUBLISH
X-PUBLISHED-TTL:P3D
REFRESH-INTERVAL:P3D
CALSCALE:GREGORIAN
BEGIN:VEVENT
DTSTART:20170427T230000Z
DTEND:20170428T000000Z
X-MICROSOFT-CDO-ALLDAYEVENT:FALSE
SUMMARY:Chamber Open House & Speaker Series
DESCRIPTION:Open House and Speaker Series. Speaker will be Stephanie Warren\, Project Director for the Parenting Center.
X-ALT-DESC;FMTTYPE=text/html:Open House and Speaker Series. Speaker will be Stephanie Warren\, Project Director for the Parenting Center.
LOCATION:BAC Large Conference Room - 1150 South Fwy Fort Worth\, TX 76104
UID:e.1262.3033
SEQUENCE:3
DTSTAMP:20260421T143419Z
URL:https://business.fwmbcc.org/events/details/chamber-open-house-speaker-series-3033
END:VEVENT

END:VCALENDAR
