BEGIN:VCALENDAR
VERSION:2.0
PRODID:-//ChamberMaster//Event Calendar 2.0//EN
METHOD:PUBLISH
X-PUBLISHED-TTL:P3D
REFRESH-INTERVAL:P3D
CALSCALE:GREGORIAN
BEGIN:VEVENT
DTSTART:20150827T230000Z
DTEND:20150828T003000Z
X-MICROSOFT-CDO-ALLDAYEVENT:FALSE
SUMMARY:Chamber Open House Speaker Series
DESCRIPTION:Mrs.. Monica Bailey-Jackson is the speaker of the evening. Mrs. Jackson is a FWMBCC Board Member and also the President of Levis Consulting Group LLC.
X-ALT-DESC;FMTTYPE=text/html:Mrs.. Monica Bailey-Jackson is the speaker of the evening. Mrs. Jackson is a FWMBCC Board Member and also the President of Levis Consulting Group LLC.
LOCATION:BAC Building 1150 S. Freeway Conference Rm. # 116
UID:e.1262.2206
SEQUENCE:3
DTSTAMP:20260422T055009Z
URL:https://business.fwmbcc.org/events/details/chamber-open-house-speaker-series-08-27-2015-2206
END:VEVENT

END:VCALENDAR
